BEGIN:VCALENDAR
VERSION:2.0
PRODID:-//Big Car - ECPv6.9.0//NONSGML v1.0//EN
CALSCALE:GREGORIAN
METHOD:PUBLISH
X-ORIGINAL-URL:https://www.bigcar.org
X-WR-CALDESC:Events for Big Car
REFRESH-INTERVAL;VALUE=DURATION:PT1H
X-Robots-Tag:noindex
X-PUBLISHED-TTL:PT1H
BEGIN:VTIMEZONE
TZID:America/Indiana/Indianapolis
BEGIN:DAYLIGHT
TZOFFSETFROM:-0500
TZOFFSETTO:-0400
TZNAME:EDT
DTSTART:20180311T070000
END:DAYLIGHT
BEGIN:STANDARD
TZOFFSETFROM:-0400
TZOFFSETTO:-0500
TZNAME:EST
DTSTART:20181104T060000
END:STANDARD
END:VTIMEZONE
BEGIN:VEVENT
DTSTART;TZID=America/Indiana/Indianapolis:20180105T180000
DTEND;TZID=America/Indiana/Indianapolis:20180105T220000
DTSTAMP:20260425T080225
CREATED:20171222T174627Z
LAST-MODIFIED:20171222T174646Z
UID:6040-1515175200-1515189600@www.bigcar.org
SUMMARY:Sometimes A Wind Blows
DESCRIPTION:A live sound art installation with artists Mark Tester\, Adrian Caldera\, Ian Donkin\, Zech Baumhover\, Ron Castillo\, Tyler Sharp and Casey Synesael.
URL:https://www.bigcar.org/event/sometimes-a-wind-blows/
LOCATION:Listen Hear\,  2620 Shelby St\, \, Indianapolis\, IN\, 46203\, United States
CATEGORIES:Listen Hear,Shelby St. Corridor,Visual Art
ATTACH;FMTTYPE=image/jpeg:https://www.bigcar.org/wp-content/uploads/2017/12/25508079_1939510802730007_324974869547593777_n.jpg
END:VEVENT
END:VCALENDAR