BEGIN:VCALENDAR
VERSION:2.0
PRODID:-//Big Car - ECPv6.9.0//NONSGML v1.0//EN
CALSCALE:GREGORIAN
METHOD:PUBLISH
X-WR-CALNAME:Big Car
X-ORIGINAL-URL:https://www.bigcar.org
X-WR-CALDESC:Events for Big Car
REFRESH-INTERVAL;VALUE=DURATION:PT1H
X-Robots-Tag:noindex
X-PUBLISHED-TTL:PT1H
BEGIN:VTIMEZONE
TZID:America/Indiana/Indianapolis
BEGIN:DAYLIGHT
TZOFFSETFROM:-0500
TZOFFSETTO:-0400
TZNAME:EDT
DTSTART:20230312T070000
END:DAYLIGHT
BEGIN:STANDARD
TZOFFSETFROM:-0400
TZOFFSETTO:-0500
TZNAME:EST
DTSTART:20231105T060000
END:STANDARD
END:VTIMEZONE
BEGIN:VEVENT
DTSTART;TZID=America/Indiana/Indianapolis:20230518T113000
DTEND;TZID=America/Indiana/Indianapolis:20230518T133000
DTSTAMP:20260420T130937
CREATED:20230424T205532Z
LAST-MODIFIED:20230424T205600Z
UID:10814-1684409400-1684416600@www.bigcar.org
SUMMARY:Lunch at Lockerbie featuring Live Performance by Kristen Bales
DESCRIPTION:Join us on Thursday at Lockerbie Marketplace — a lovely downtown greenspace next to Needler’s Fresh Market. Ping pong\, foosball\, and giant Jenga are always available for additional entertainment. \nThis week enjoy live music by Kristen Bales\, Numerology readings by Ellen Robinson\, and wood-fired cuts of meat\, poultry\, seafood & vegetables by Guacho Fire.  \n\nAbout Kristen Bales \nKristen Bales is an indie-alternative/rock artist out of Indianapolis\, Indiana. With a voice that at times appears relaxed and pristine\, like the sweet crooning of Norah Jones\, but at times crashes against the heavy\, soul-filled tones of Janis Joplin\, Kristen turns to roots of jazz to exemplify genres of blues\, rock\, and soul. \nAbout Ellen Robinson  \nI am an Indiana native and started painting in 2007 when my business coach at the time handed me canvas\, paints and brush and said: PAINT. I initially resisted\, saying to my coach: I DON’T PAINT. After a few minutes I realized I was not getting off the hook and so I begrudgingly began to paint. I felt a feeling that was unfamiliar at the time … the feeling I know now to be FREE. I’ve been painting ever since. \nI believe we are all uniquely wired to live our true expression in the world. Me for me and you for you. And that THIS is the greatest act of service. I do not paint a specific thing or have a specific technique. I paint when I have something to say. Sometimes this is literally with words and sometimes not. All of it is me expressing my lifeforce energy on canvas. \nEach piece I paint is for someone\, whether I know who that is at the time I paint it\, or not. I love when people ask me to paint something just for them and I also love it when someone sees as piece of mine online or at a show and feel so drawn to it\, that they know they must have it. I think this is the best way to buy anything\, including art\, if it feels good in your bones\, it’s for YOU. \n\nAll events are free at 320 N New Jersey Street in the greenspace right off the Cultural Trail.
URL:https://www.bigcar.org/event/lunch-at-lockerbie-featuring-live-performance-by-kristen-bales/
LOCATION:Lockerbie Marketplace\, 320 N New Jersey St\, Indianapolis\, IN\, United States
CATEGORIES:Downtown Indy
ATTACH;FMTTYPE=image/jpeg:https://www.bigcar.org/wp-content/uploads/2023/04/Kristen-Bales.jpg
ORGANIZER;CN="Big Car Collaborative":MAILTO:info@bigcar.org
END:VEVENT
END:VCALENDAR