BEGIN:VCALENDAR
VERSION:2.0
PRODID:-//Big Car - ECPv6.9.0//NONSGML v1.0//EN
CALSCALE:GREGORIAN
METHOD:PUBLISH
X-WR-CALNAME:Big Car
X-ORIGINAL-URL:https://www.bigcar.org
X-WR-CALDESC:Events for Big Car
REFRESH-INTERVAL;VALUE=DURATION:PT1H
X-Robots-Tag:noindex
X-PUBLISHED-TTL:PT1H
BEGIN:VTIMEZONE
TZID:America/Indiana/Indianapolis
BEGIN:DAYLIGHT
TZOFFSETFROM:-0500
TZOFFSETTO:-0400
TZNAME:EDT
DTSTART:20230312T070000
END:DAYLIGHT
BEGIN:STANDARD
TZOFFSETFROM:-0400
TZOFFSETTO:-0500
TZNAME:EST
DTSTART:20231105T060000
END:STANDARD
END:VTIMEZONE
BEGIN:VEVENT
DTSTART;TZID=America/Indiana/Indianapolis:20230602T080000
DTEND;TZID=America/Indiana/Indianapolis:20230723T150000
DTSTAMP:20260420T182231
CREATED:20230502T193453Z
LAST-MODIFIED:20250212T164936Z
UID:10861-1685692800-1690124400@www.bigcar.org
SUMMARY:Nasreen Khan: Cic·a·trix
DESCRIPTION:The narrative of femininity is pain.\nCicatrix: the scar of a healed wound. In botany\, cicatrix refers to the keloid mark left on a tree after a piece of it has been removed. In this body of work\, I am exploring the personal maternal scar of being taken away from the only real parental figure I had until that point in life\, the complex scars of colonialism and immigration\, and the physical scars of my own body.\n\nI spent the first part of my life in Senegal\, West Africa. I was raised by my nanny\, a Senegalese woman named Saly. In Senegal there is a practice called diamou\, or gum tattooing and burning. A hot needle is repeatedly poked into a woman’s gums. Then a mixture of burnt oil and shea butter is rubbed into the wounds to darken the space around the teeth. This is supposed to make the woman more beautiful\, but also to train her to tolerate pain. When I was 9\, Sali began tattooing my gums to blacken them. She was never able to finish. I spent the second half of my life in Indonesia. Saly died the year after we left Africa.\n\nThe architect and urban planner\, Le Corbusier\, wrote about humanity as born in a state of insufficiency\, therefore needing “auxiliary organs.” For Le Corbusier\, our built environments\, including building architecture\, become prosthetic extensions of our insufficient human bodies. His thoughts form the basis for contemporary prosthetic theory\, often cited in the world of AI and tech innovation. For example\, a computer mouse pad becomes an extension of our internal understanding of reality\, as it is the “limb” we use to create changes in our virtual realities.\n\nImmigration is both an amputation and a taking on of prosthesis through cultural assimilation in a new built environment. The relationships we leave behind are an extension of ourselves. Their separation leaves a wound\, then a scab\, then a callous on which the new ones rest like a prosthetic limb.\n\nI draw on concepts of scarification and prosthesis in this body of work. The collections of dots and lines that form many of the backgrounds are translated from traditional African scarification patterns. I choose to work burning on wood\, mirroring the tattoos on my gums. The tree limbs and bark are functionally akin to scarred skin and flesh.\n\nThe cultural narrative of femininity I was taught as a child was –to be woman was to endure pain–and to be a good woman\, was to endure pain quietly. Once I immigrated to America\, the messaging about what it meant to be a woman changed only slightly. I am in pain. The pain I experience is often dismissed\, by the immigration and medical systems\, by male partners\, by respectability culture.These works are manifestations of the silent scaring and re-wounding that many women experience. They challenge and subvert these narratives through their size and emotionality. The use of a once living medium is a metaphor for womanhood and immigration.\nRun your fingers on the raised welts in the wood. Touch pain.\n\nAbout the Artist\nNasreen Khan (she/her) is a writer\, visual artist\, teacher\, and mother. She grew up in West Africa and Indonesia and has recently made a home in Indianapolis. Her teaching and artistic practices\, rooted in questions of equity and earth-based spirituality\, grapple with questions of belonging; celebrate cultural margins; and confront colonization\, racism\, and misogyny.\nIG: @heyitsnasreen\nWebsite: https://nasreen-khan.com/\n\nJune 2-July 23\nJeremy D. Efroymson Gallery\nWednesday -Friday 9 a.m. to 6 p.m.\nSaturday & Sunday 9 a.m. to 3 p.m.\nTube is also open until 10 p.m. each First Friday.\nClosed Holidays\nMade possible by The Arts Council of Indianapolis\, The City of Indianapolis\, Allen Whitehill Clowes Charitable Foundation and more.
URL:https://www.bigcar.org/event/nasreen-khan-cic%c2%b7a%c2%b7trix/
LOCATION:Contemporary Art Museum of Indianapolis (CAMi)\, 1125 Cruft St.\, Indianapolis\, IN\, 46203\, United States
CATEGORIES:Garfield Park,Shelby St. Corridor,Visual Art
ATTACH;FMTTYPE=image/jpeg:https://www.bigcar.org/wp-content/uploads/2023/05/BlueWoman.jpg
END:VEVENT
BEGIN:VEVENT
DTSTART;TZID=America/Indiana/Indianapolis:20230602T180000
DTEND;TZID=America/Indiana/Indianapolis:20230723T180000
DTSTAMP:20260420T182231
CREATED:20230517T210310Z
LAST-MODIFIED:20230531T171635Z
UID:10877-1685728800-1690135200@www.bigcar.org
SUMMARY:Haykidd &Thee Black Card-Hey Black Kidd
DESCRIPTION:“Hey Black Kidd” is a collaborative body of work created by painter\, Haykidd (Greg Rose) and mixed media artist\, Thee Black Card (Sarah Jene). The exhibit is a celebration of self\, full realization and acknowledgement of who you are\, where you are and what you have– from their perspectives.\n\nPairing Thee Black Card’s rich cultural mixed media work and Haykidd’s imaginative approach to storytelling\, these artists tell a story of resilience\, joy and virtue in 14 pieces.\n\nThe exhibit is inspired by this poem written by Useni Perkins:\n“Hey Black Child\nDo you know who you are\nWho you really are\nDo you know you can be\nWhat you want to be\nIf you try to be\nWhat you can be\nHey black child\nDo you know where you are going\nWhere you’re really going\nDo you know you can learn\nWhat you want to learn\nWhat you can learn\nHey Black child\nDo you know you are strong\nI mean really strong\nDo you know you can do\nWhat you want to do\nIf you try to do\nWhat you can do\nHey Black child\nBe what you can do\nLearn what you must learn\nDo what you can do\nAnd tomorrow your nation\nWill be what you want it to be”\n\nThis exhibit opens in our Listen Hear Gallery located at 2625 Shelby St.
URL:https://www.bigcar.org/event/haykidd-thee-black-card-hey-black-kidd/
LOCATION:Contemporary Art Museum of Indianapolis (CAMi)\, 1125 Cruft St.\, Indianapolis\, IN\, 46203\, United States
CATEGORIES:Garfield Park,Listen Hear,Visual Art
ATTACH;FMTTYPE=image/jpeg:https://www.bigcar.org/wp-content/uploads/2023/05/haykidd.jpg
END:VEVENT
BEGIN:VEVENT
DTSTART;TZID=America/Indiana/Indianapolis:20230625T130000
DTEND;TZID=America/Indiana/Indianapolis:20230625T150000
DTSTAMP:20260420T182231
CREATED:20230531T013318Z
LAST-MODIFIED:20230531T013318Z
UID:10946-1687698000-1687705200@www.bigcar.org
SUMMARY:Andrea Jandernoa- Power Plant Grant Juror Artist Talk
DESCRIPTION:Learn about artist Andrea Jandernoa\, a juror for our 2023 Power Plant Grant. Jandernoa is an award-winning artist and educator who specializes in community-based arts programming. She holds an MA in Philosophy and an MFA in Integrative Studio Practice from Herron School of Art & Design. Jandernoa experiments with intentional processes\, materials\, and forms\, in order to discover metaphors that can be applied to social contexts or to challenge inequitable power structures. This results in a highly collaborative and interdisciplinary art practice. Jandernoa also maintains a studio space at the Circle City Industrial Complex where she paints and exhibits oil paintings.\n\nAbout the The Power Plant Grant\nPower Plant Grants support — on an annual basis — visual artists who live\, work\, or run spaces in Indianapolis with project grants of $10\,000. Applications for this round are due by July 10\, 2023.\n\nEach year — based on selections by an independent panel — 6 individual artists or teams will receive awards of $10\,000.\n\nEligible applicants are visual and or multidisciplinary artists who create original work in painting\, drawing\, sculpture\, book art\, ceramics\, fiber\, printmaking\, digital and media works\, film\, video\, photography\, performance art\, sound art\, social practice and or hybrid or interdisciplinary practice of any or all of the above.\n\nArtists must be over 21 at the time of the application\, and may not be full-time students.\n\nEmployees or board members (or immediate family members of employees or board members) of Big Car Collaborative are not eligible for this opportunity.\nTeams\, partnerships\, and unincorporated individuals running spaces are eligible. Nonprofit organizations are not.\n\nEligible projects are ones that can be primarily supported by grant funds. Much larger projects that would require far more funding are not eligible.\nPrevious Power Plant Grant recipients awarded in the previous year are not eligible to apply for this current round.\n\nHow it works\nApply by July 10\, 2023. A panel of four judges\, three Indiana-based and one out-of-state\, will award six artists\, artist teams\, or artist-run space project grants of $10\,000 — with a total of $60\,000 granted in 2023.\nTimeline:\nFriday\, May 5 – Application opens\nMonday\, June 5\, 7-8 pm — Virtual information session.\nMonday\, June 26\, 7-8 pm — Information session (in-person)\nMonday\, July 10 – Applications close online\, at 11.59 PM EST\nFriday\, August 11 – All applications notified if they will proceed to the final round\nSaturday\, August 26\, 9:30 am — 6pm — Artists’ presentations at Selection Panel meeting in Indianapolis*\nMonday\, August 28 – Award recipients notified\nMonday\, September 18 – Public Announcement of 2023-24 Awards
URL:https://www.bigcar.org/event/andrea-jandernoa-power-plant-grant-juror-artist-talk/
LOCATION:Contemporary Art Museum of Indianapolis (CAMi)\, 1125 Cruft St.\, Indianapolis\, IN\, 46203\, United States
CATEGORIES:classes,Garfield Park,Visual Art
ATTACH;FMTTYPE=image/jpeg:https://www.bigcar.org/wp-content/uploads/2023/05/Andrea-Jandernoa.jpg
END:VEVENT
END:VCALENDAR