BEGIN:VCALENDAR
VERSION:2.0
PRODID:-//Big Car - ECPv6.9.0//NONSGML v1.0//EN
CALSCALE:GREGORIAN
METHOD:PUBLISH
X-ORIGINAL-URL:https://www.bigcar.org
X-WR-CALDESC:Events for Big Car
REFRESH-INTERVAL;VALUE=DURATION:PT1H
X-Robots-Tag:noindex
X-PUBLISHED-TTL:PT1H
BEGIN:VTIMEZONE
TZID:America/Indiana/Indianapolis
BEGIN:DAYLIGHT
TZOFFSETFROM:-0500
TZOFFSETTO:-0400
TZNAME:EDT
DTSTART:20220313T070000
END:DAYLIGHT
BEGIN:STANDARD
TZOFFSETFROM:-0400
TZOFFSETTO:-0500
TZNAME:EST
DTSTART:20221106T060000
END:STANDARD
END:VTIMEZONE
BEGIN:VEVENT
DTSTART;TZID=America/Indiana/Indianapolis:20220304T180000
DTEND;TZID=America/Indiana/Indianapolis:20220325T180000
DTSTAMP:20260422T175046
CREATED:20220114T222321Z
LAST-MODIFIED:20220204T164343Z
UID:9497-1646416800-1648231200@www.bigcar.org
SUMMARY:Kelvin Burzon and Jenny Delfuego: Process/Progress
DESCRIPTION:Multi-genre visual artists Kelvin Burzon and Jenny Delfuego are creating movement-based work to accompany their visual art as part of a partnership between Big Car Collaborative and Indy Movement Arts.\nIn the fall of 2020\, Indy Movement Arts began experimenting with small\, digital fellowships as a small contribution towards the arts economy and keeping artistic production viable. The Process/Progress residency is the latest iteration of this experiment\, paying intermedia artists to reflect on their creative process and how they incorporate movement into their practice.\nThe residency was conceived as a digital one but given that Indy Movement Arts is rooted in movement and dance\, a discipline that often involves some immediate interchange between artist and audience\, the artists were commissioned in partnership between the two organizations to make a new work involving such an interchange.\n\nAbout the artists:\nKelvin Burzon’s recent work addresses\, but does not attempt to resolve\, the tension between religion and homosexuality. He examines religion’s traditions\, imagery\, theatricality\, and psychological vestige. By appropriating religious imagery and language\, the work is recontextualized by the insertion of LGBTQ members and activists. Burzon’s work has been exhibited abroad and all over the country and is part of several permanent collections including the Kinsey Institute and The Center for Photography at Woodstock.\n\nJenny Delfuego was born in Chicago to immigrant parents and has been exhibiting work under different monikers since the 90s. She examines ephemerality\, light and shadow\, and the edges of impermanence. The indications of our existence are often made and unmade in the time it takes to observe them. Her involvement with Indy Movement Arts has promoted experiments in communal conversation and collaboration. What marks\, what indications do these conversations leave? Delfuego studied painting at Indiana University and her work is in private and corporate collections on five continents.\n\nThe exhibit is made possible by The Allen Whitehill Clowes Charitable Foundation\, The Arts Council of Indianapolis\, The City of Indianapolis and The Andy Warhol Foundation for the Visual Arts.\n\nPerformances will take place March 25th
URL:https://www.bigcar.org/event/kelvin-burzon-and-jenny-delfuego-process-progress/
LOCATION:Contemporary Art Museum of Indianapolis (CAMi)\, 1125 Cruft St.\, Indianapolis\, IN\, 46203\, United States
CATEGORIES:Downtown Indy,Garfield Park,Shelby St. Corridor,Visual Art
ATTACH;FMTTYPE=image/jpeg:https://www.bigcar.org/wp-content/uploads/2022/01/Burzon_009.jpg
END:VEVENT
BEGIN:VEVENT
DTSTART;TZID=America/Indiana/Indianapolis:20220304T180000
DTEND;TZID=America/Indiana/Indianapolis:20220416T150000
DTSTAMP:20260422T175046
CREATED:20220114T220316Z
LAST-MODIFIED:20220224T223839Z
UID:9490-1646416800-1650121200@www.bigcar.org
SUMMARY:Kris Graves: A Southern Horror
DESCRIPTION:Kris Graves creates artwork that deals with societal problems and aims to use art as a means to inform people about cultural issues. He also works to elevate the representation of people of color in the fine art canon; and to create opportunities for conversation about race\, representation\, and urban life. Graves creates photographs of landscapes and people to preserve memory.\n\n“In Summer 2020 a collective uprising rooted in local civic engagements ricocheted around the world in response to the murder of George Floyd by Minneapolis police officers. It relied on one of the central pillars of Democracy—peaceful protest. Although grounded in the particular\, the embodied actions of the multitudes illuminated larger universal questions of basic human rights and dignity in the 21st century. The echo of empathy\, anger\, and pain born from the eight minutes and 46 seconds of viral video that captured Floyd’s passing\, resonated not only in the United States\, but in ongoing struggles across the globe. While this was going on\, I photographed memorials\, monuments\, and sites of the antebellum South and the Confederacy. My friend Marshall (@fu64) and I drove approximately 4000 miles across eight southern states making photographs of every site we could find. Some have been removed\, most remain in place.” — Kris Graves\nA Southern Horror is primarily a series of 175 non fungible token or NFT works. NFTs are unique digital files that can be owned. While any person can replicate the artwork through screenshot or other means\, NFTs are designed to give the purchaser ownership of the work. For example anyone can own a Mona Lisa print but there is only one owner of the actual painting. Click here to visit the works.\n\n\nKris Graves (b. 1982 New York\, NY) is an artist and publisher based in New York and California. He received his BFA in Visual Arts from S.U.N.Y. Purchase College and has been published and exhibited globally\, including Museum of Modern Art\, New York; Getty Institute\, Los Angeles; and National Portrait Gallery in London\, England; among others. Permanent collections include the Metropolitan Museum of Art\, Getty Institute\, Schomburg Center\, Whitney Museum\, Guggenheim Museum\, Museum of Fine Arts\, Houston; Brooklyn Museum; and The Wedge Collection\, Toronto; amongst others. Graves also sits on the board of Blue Sky Gallery: Oregon Center for the Photographic Arts\, Portland; and The Architectural League of New York as Vice President of Photography\n\n\nPresented by Aurora PhotoCenter\nThe exhibit is made possible by The Arts Council of Indianapolis\, The City of Indianapolis\, Allen Whitehill Clowes Charitable Foundation and The Andy Warhol Foundation for the Visual Arts.
URL:https://www.bigcar.org/event/kris-graves-a-southern-horror/
LOCATION:Contemporary Art Museum of Indianapolis (CAMi)\, 1125 Cruft St.\, Indianapolis\, IN\, 46203\, United States
CATEGORIES:classes,Shelby St. Corridor,Visual Art
ATTACH;FMTTYPE=image/jpeg:https://www.bigcar.org/wp-content/uploads/2022/01/Graves4.jpg
END:VEVENT
BEGIN:VEVENT
DTSTART;TZID=America/Indiana/Indianapolis:20220304T180000
DTEND;TZID=America/Indiana/Indianapolis:20220418T180000
DTSTAMP:20260422T175046
CREATED:20220114T215909Z
LAST-MODIFIED:20220204T164006Z
UID:9487-1646416800-1650304800@www.bigcar.org
SUMMARY:Laura Foster Nicholson: Scenes From The Carbon Border
DESCRIPTION:From the hands of a young person in China\, to a shipping container crossing the Suez Canal\, to a semi-truck driver transporting containers cross country\, to people at the big box or mom and pop who unload them\, to everyone going to the stores to buy things. These are carbon borders we’ve created 一 our feet\, our cars\, trains\, planes\, streets\, and sidewalks all in motion. These borders both connect and divide us.\nTwo years ago\, driving from her home in New Harmony\, Indiana to Chicago\, artist Laura Foster Nicholson — a textile artist known for her handwoven tapestries — paused to notice the landscapes from our carbon borders. And the work she began creating then offers us — in this exhibition — a view of the path taken by the goods we purchase. This is often unseen and costs the world more than what’s listed on the price tag. And these carbon borders separate us from the people who made many of the items with which we live and adorn ourselves.\nNicholson noticed the cost to the environment and ultimately ourselves. She began incorporating these aspects in her works\, calling attention to disasters and accidents along these borders\, reminding us of the seen and unseen dangers of our way of life. “I watched the Wabash swell annually\, frequently inundating the fields\, sometimes filling basements\, and once in a while warranting the efforts of the National Guard to sandbag around the New Harmony Inn. This past couple of weeks\, texts have updated me regularly about extending the flash flood warning for the area\,” says Nicholoson.\nWith this\, we can pause to consider the invisible people and places behind items we consume and the inevitable disasters that result from the journeys. As each piece takes many hours to create\, Nicholson’s work gives us access to our connectedness as humans instead of being based on consumerism and the whims of market research and algorithms. “As an artist\, I am first visually inspired: the reflections in the water of these structures\, foretelling the future\, reflecting the past\,” says Nicholoson.\nThis work reminds us that though we say the world has become smaller\, we have become more distant from one another. No longer do we know all the hands that touched the objects we use to define ourselves. These tapestries are scenes from the carbon borders driven by our consumption and connecting us like the threads of her works.\n\nLaura Foster Nicholson’s artwork is in several museum collections\, including the Art Institute of Chicago\, the Minneapolis Institute of Art\, and the Denver Art Museum. With a BFA from Kansas City Art Institute and MFA from Cranbrook Academy of Art\, she has lectured\, taught\, and exhibited in the US\, Canada and Italy. She has been awarded an NEA fellowship\, the Leone di Pietra prize at the Venice Biennale of Architecture\, three Illinois Arts Council fellowships\, and a grant from the Graham Foundation for Research in the Fine Arts.  Most recently she was awarded the Dehaan Artist of Distinction grant.\n\nPart of our Social Alchemy Project in partnership with University of Southern Indiana & The New Harmony Gallery of Contemporary Art- this exhibit was made possible by Indiana Humanities\, Allen Whitehill Clowes Charitable Foundation\, The Arts Council of Indianapolis\, The City of Indianapolis\, The Efroymson Family Fund and The Andy Warhol Foundation for the Visual Arts.\n\nImage: “Hanjin\,” 2021. 31” x 43 ½”. Wool\, mylar\, cotton. Nicholson used “warming stripes” to indicate long term warming trends.
URL:https://www.bigcar.org/event/laura-foster-nicholson-scenes-from-the-carbon-border/
LOCATION:Contemporary Art Museum of Indianapolis (CAMi)\, 1125 Cruft St.\, Indianapolis\, IN\, 46203\, United States
CATEGORIES:Shelby St. Corridor,Visual Art
ATTACH;FMTTYPE=image/jpeg:https://www.bigcar.org/wp-content/uploads/2022/01/Hanjinsmweb.jpg
END:VEVENT
END:VCALENDAR