BEGIN:VCALENDAR
VERSION:2.0
PRODID:-//Big Car - ECPv6.9.0//NONSGML v1.0//EN
CALSCALE:GREGORIAN
METHOD:PUBLISH
X-WR-CALNAME:Big Car
X-ORIGINAL-URL:https://www.bigcar.org
X-WR-CALDESC:Events for Big Car
REFRESH-INTERVAL;VALUE=DURATION:PT1H
X-Robots-Tag:noindex
X-PUBLISHED-TTL:PT1H
BEGIN:VTIMEZONE
TZID:America/Indiana/Indianapolis
BEGIN:DAYLIGHT
TZOFFSETFROM:-0500
TZOFFSETTO:-0400
TZNAME:EDT
DTSTART:20210314T070000
END:DAYLIGHT
BEGIN:STANDARD
TZOFFSETFROM:-0400
TZOFFSETTO:-0500
TZNAME:EST
DTSTART:20211107T060000
END:STANDARD
END:VTIMEZONE
BEGIN:VEVENT
DTSTART;TZID=America/Indiana/Indianapolis:20210903T180000
DTEND;TZID=America/Indiana/Indianapolis:20211114T180000
DTSTAMP:20260423T005142
CREATED:20210602T193658Z
LAST-MODIFIED:20210629T212729Z
UID:9268-1630692000-1636912800@www.bigcar.org
SUMMARY:Nick May: Fag Family
DESCRIPTION:“Fag Family is a series of double portraits of individuals in my queer community. These portraits capture the queer relationships\, queer spaces\, and the liberating magic of queer world-building that I have the privilege to observe and be a part of\,” says May.\n“Historically\, portraiture was a display of wealth and power; a luxury afforded only to the rich\, affluent\, white aristocracy. Queer individuals\, especially queer individuals of color\, have been totally erased from that history. I vehemently reject the stink of white supremacy and classism that continues to infect the art world\, and my goal with these portraits is to subvert that ugly history by capturing my fellow queer friends with all of the luxuriance and beauty of oil painting.\n\nCreated with photo references\, my portraits are nearly life-size and meticulously painted in order to earnestly catalog and celebrate the human lives I observe. Painting is an incredibly physical process: building the stretcher bar\, stretching the canvas\, priming and the process of painting demands an inordinate amount of energy. This painstaking process is compulsory however\, because it is crucial for me to match the energy of the sitter I portray. Exerting so much energy into the surface of the canvas itself injects a kind of life into the portrait\, as a homage to the living person themself.\n\nMany of my fundamental artistic influences derive from the trauma I endured as a queer child. The escapist avenues I ventured in adolescence like children’s novels\, campy movie musicals\, fantasy video games made an invariable impression upon me. Growing up with image-dump platforms like Tumblr and Instagram exposed me to many artists who influence my work: Alice Neel\, Mickalene Thomas\, and Jordan Casteel to name a few. As a queer adult\, drag queens\, experimental pop music\, and queer literature has indelibly impacted me. The apotheosis of these influences has left me obsessed with beautiful images\, creating fantasies\, and the human lives around me.\n\nThe power and beauty of my queer community inspired me to create this body of work. Despite existing in predominantly conservative midwestern towns and within an oppressive society\, we create safe spaces for one another to brazenly enjoy our queerness. Within these spaces we transform ourselves\, celebrate\, and love one another. Within these spaces we create a whole new world that celebrates and uplifts us.”\n\nNick May is a portrait artist whose practice is deeply rooted in community and queerness. They received their Bachelors of Fine Arts with emphasis in Painting from Ball State University and are currently working as a portrait artist in Indianapolis\, Indiana. Created from photographs\, their portraits are nearly life-size and meticulously painted in order to earnestly capture and celebrate the human lives they encounter.\n\nMade possible by The Andy Warhol Foundation for the Visual Arts.
URL:https://www.bigcar.org/event/nick-may-fag-family/
LOCATION:Contemporary Art Museum of Indianapolis (CAMi)\, 1125 Cruft St.\, Indianapolis\, IN\, 46203\, United States
CATEGORIES:Garfield Park,Shelby St. Corridor,Visual Art
ATTACH;FMTTYPE=image/jpeg:https://www.bigcar.org/wp-content/uploads/2021/06/3452E3B2-753B-4F49-A242-C52CF3F81BD8.jpg
END:VEVENT
END:VCALENDAR