BEGIN:VCALENDAR
VERSION:2.0
PRODID:-//Big Car - ECPv6.9.0//NONSGML v1.0//EN
CALSCALE:GREGORIAN
METHOD:PUBLISH
X-WR-CALNAME:Big Car
X-ORIGINAL-URL:https://www.bigcar.org
X-WR-CALDESC:Events for Big Car
REFRESH-INTERVAL;VALUE=DURATION:PT1H
X-Robots-Tag:noindex
X-PUBLISHED-TTL:PT1H
BEGIN:VTIMEZONE
TZID:America/Indiana/Indianapolis
BEGIN:DAYLIGHT
TZOFFSETFROM:-0500
TZOFFSETTO:-0400
TZNAME:EDT
DTSTART:20240310T070000
END:DAYLIGHT
BEGIN:STANDARD
TZOFFSETFROM:-0400
TZOFFSETTO:-0500
TZNAME:EST
DTSTART:20241103T060000
END:STANDARD
END:VTIMEZONE
BEGIN:VEVENT
DTSTART;TZID=America/Indiana/Indianapolis:20240317T180000
DTEND;TZID=America/Indiana/Indianapolis:20240317T180000
DTSTAMP:20260419T212813
CREATED:20240314T133606Z
LAST-MODIFIED:20240314T133615Z
UID:11728-1710698400-1710698400@www.bigcar.org
SUMMARY:Artist Talk with Giselle Trujillio featuring artists from Indy Latina Artists
DESCRIPTION:Join Giselle Trujillo at the Tube Factory artspace for an artist talk about her latest art installation Hogar Dulce Hogar. In this event Giselle will talk about her start in her arts career\, the materials used in her arts practice and the importance of the collaborative process to create her work. In this event members of the Indy Latina Artists will join Giselle Trujillo in a small panel conversation about the experience of being members of a latina women’s group and working to elevate and support each other. \nHogar Dulce Hogar (Home Sweet Home) is an immersive experience that transports visitors to a timeless realm and invites them to engage with the artwork and touch\, feel\, and even dance with the pieces. Trujillo’ screen paintings contemplate making a home where you are — without losing the richness of your background. The house symbolize the beauty of diverse experiences and merge to form a tapestry of identity. This echoes the importance of preserving cultural roots while embracing new surroundings. Trujillo also offers subtle commentary on emigration and the essence of “home.”\nA notable facet of this installation is Trujillo’s inclusion of works by other members of the Indy Latina Artists group. They include: Mayra Espino\, Ana Escalante\, Vanessa Monfreda\, Mary Mindiola\, Rosa Maria Díes\, Frances Ruiz\, and Nettie Viera. Their pieces further enrich the overarching narrative and cultural tapestry woven by Trujillo’s vision.
URL:https://www.bigcar.org/event/artist-talk-with-giselle-trujillio-featuring-artists-from-indy-latina-artists/
LOCATION:Contemporary Art Museum of Indianapolis (CAMi)\, 1125 Cruft St.\, Indianapolis\, IN\, 46203\, United States
CATEGORIES:Garfield Park,Visual Art
END:VEVENT
END:VCALENDAR