BEGIN:VCALENDAR
VERSION:2.0
PRODID:-//Big Car - ECPv6.9.0//NONSGML v1.0//EN
CALSCALE:GREGORIAN
METHOD:PUBLISH
X-ORIGINAL-URL:https://www.bigcar.org
X-WR-CALDESC:Events for Big Car
REFRESH-INTERVAL;VALUE=DURATION:PT1H
X-Robots-Tag:noindex
X-PUBLISHED-TTL:PT1H
BEGIN:VTIMEZONE
TZID:America/Indiana/Indianapolis
BEGIN:DAYLIGHT
TZOFFSETFROM:-0500
TZOFFSETTO:-0400
TZNAME:EDT
DTSTART:20230312T070000
END:DAYLIGHT
BEGIN:STANDARD
TZOFFSETFROM:-0400
TZOFFSETTO:-0500
TZNAME:EST
DTSTART:20231105T060000
END:STANDARD
END:VTIMEZONE
BEGIN:VEVENT
DTSTART;TZID=America/Indiana/Indianapolis:20230102T190000
DTEND;TZID=America/Indiana/Indianapolis:20230102T223000
DTSTAMP:20260420T033243
CREATED:20221222T164524Z
LAST-MODIFIED:20221222T164524Z
UID:10558-1672686000-1672698600@www.bigcar.org
SUMMARY:JEANNE DIELMAN\, 23 QUAI DU COMMERCE\, 1080 BRUXELLES
DESCRIPTION:Recently declared the new greatest film of all time\, Chantal Akerman’s Jeanne Dielman\, 23\, quai du Commerce\, 1080 Bruxelles is a singular work in film history.\nThe film meticulously details\, with a sense of impending doom\, the daily routine of a middle-aged widow\, whose chores include making the beds\, cooking dinner for her son\, and turning the occasional trick.\nIn its enormous spareness\, Akerman’s film seems simple\, but it encompasses an entire world. Whether seen as an exacting character study or as one of cinema’s most hypnotic and complete depictions of space and time\, Jeanne Dielman is an astonishing\, compelling movie experiment\, one that has been analyzed and argued over for decades.\nCast: Delphine Seyrig\, Jan Decorte\, Henri Storck\nDirector: Chantal Akerman\nWriter: Chantal Akerman\nLength: 202 minutes\nNot Rated\n(1975)\n\nAbout Akerman\nChantal Akerman was born in 1950 in Brussels\, and died in Paris in 2015. Akerman was a pioneer in feminist and experimental filmmaking. Born to Holocaust survivors from Poland\, the generational trauma of this experience was a continuing theme in her work and in recent decades she explored her own Jewish identity. She made over 40 films during her life time\, and is considerd to be one of the most important European directors of her generation.\nRecent solo exhibitions have been shown at EyefilmMusem\, Amsterdam\, The Netherlands (2020); MOCA\, Toronto\, Canada (2019); Oi Futuro\, Rio de Janeiro\, Brazil (2018)\, a retrospective at La Cinemateque Francaise\, Paris\, France (2018); Institute of Contemporary Arts\, London (2015); The Kitchen\, New York (2013); Palais des Beaux-Arts\, Brussels\, Belgium (2013); Museum for Contemporary Art Antwerp\, Belgium (2012); a film retrospective at the Vienna Film Festival\, Austria (2011); the Contemporary Art Museum\, St. Louis\, Missouri (2009); List Visual Arts Center\, M.I.T. Cambridge\, Massachusetts (2008); Camden Arts Centre\, London\, England (2008); Tel Aviv Musem of Art\, Tel Aviv\, Israel (2006); Centre Georges Pompidou\, Paris (2004); Walker Art Center\, Minneapolis\, Minnesota (1995).
URL:https://www.bigcar.org/event/jeanne-dielman-23-quai-du-commerce-1080-bruxelles/
LOCATION:Kan-Kan Cinema\, 1258 Windsor St.\, Indianapolis\, IN\, 46201\, United States
CATEGORIES:Garfield Park,Shelby St. Corridor,The Show Room,Visual Art
ATTACH;FMTTYPE=image/jpeg:https://www.bigcar.org/wp-content/uploads/2022/12/jeandielman-1600x900-c-default.jpg
END:VEVENT
END:VCALENDAR