BEGIN:VCALENDAR
VERSION:2.0
PRODID:-//Big Car - ECPv6.9.0//NONSGML v1.0//EN
CALSCALE:GREGORIAN
METHOD:PUBLISH
X-ORIGINAL-URL:https://www.bigcar.org
X-WR-CALDESC:Events for Big Car
REFRESH-INTERVAL;VALUE=DURATION:PT1H
X-Robots-Tag:noindex
X-PUBLISHED-TTL:PT1H
BEGIN:VTIMEZONE
TZID:America/Indiana/Indianapolis
BEGIN:DAYLIGHT
TZOFFSETFROM:-0500
TZOFFSETTO:-0400
TZNAME:EDT
DTSTART:20220313T070000
END:DAYLIGHT
BEGIN:STANDARD
TZOFFSETFROM:-0400
TZOFFSETTO:-0500
TZNAME:EST
DTSTART:20221106T060000
END:STANDARD
END:VTIMEZONE
BEGIN:VEVENT
DTSTART;TZID=America/Indiana/Indianapolis:20220317T080000
DTEND;TZID=America/Indiana/Indianapolis:20220801T170000
DTSTAMP:20260422T031558
CREATED:20220317T204219Z
LAST-MODIFIED:20220317T210105Z
UID:9661-1647504000-1659373200@www.bigcar.org
SUMMARY:pLopLop Vol. 14 Submission Form
DESCRIPTION:Are you a writer? Have something to say? Want to put it in print? Submit your work to PLopLop! 100 word limit. Submissions are due by August 1.\npLOpLop is an “Antholozine” of Poetry\, Prose and Artwork published by Indianapolis\, IN based visual artist\, Big Car co-founder and writer John Clark since 1992.\npLopLop has published the work of writers like Kurt Vonnegut\, Charles Bukowski\, Jack Kerouac\, Fielding Dawson\, Eileen Myles\, Gerald Locklin and more.\nInfluences: Surrealism\, Dada\, Henry Miller\, Patchen\, lo-fi indie rock\, DIY activities\, indie publishers and bookshops\, British Invasion\, mimeo-revolution\, underground writers\, garage rock and improvisation.
URL:https://www.bigcar.org/event/ploplop-vol-14-submission-form/
LOCATION:IN
CATEGORIES:Downtown Indy,Garfield Park,Shelby St. Corridor,Visual Art
ATTACH;FMTTYPE=image/jpeg:https://www.bigcar.org/wp-content/uploads/2022/03/IMG_9429.jpg
END:VEVENT
BEGIN:VEVENT
DTSTART;TZID=America/Indiana/Indianapolis:20220401T180000
DTEND;TZID=America/Indiana/Indianapolis:20220523T150000
DTSTAMP:20260422T031558
CREATED:20220315T160732Z
LAST-MODIFIED:20220315T161244Z
UID:9644-1648836000-1653318000@www.bigcar.org
SUMMARY:Drea Cofield: All At Once
DESCRIPTION:Alla prima is the Italian term for the material technique of wet on wet painting\, and literally translates to “at the first”\, but I prefer to read “all at once” as it denotes a kind of urgent submission to the sensorial subject that parallels the sublimation of my more libidinal imagery into the touch of the landscape. Like a lover lost in the realms of desire\, a pendulous breast or glistening ass becomes the wet slip of a brushstroke\, the resonant touch of two tones\, and other things unnameable. How does a stand of trees relate to the figure? How does the midday sun relate to my state of mind? Temperature and speed become tantamount in the lived moment as I try to consume everything with my eyes. Less time to think for more time to feel the shifting light and twining trees mirrored in the creek. Most of the paintings in this body of work were created in one sitting. \nAbout the artist \nDrea Cofield is an artist currently working between Indianapolis\, IN and Brooklyn\, NY. In 2013\, she received her M.F.A from Yale School of Art (New Haven\, CT)\, and in 2008\, her B.A from DePauw University (Greencastle\, IN). She has exhibited in the U.S. and internationally including New York\, Los Angeles\, Philadelphia\, Portland and Italy. Most recently she exhibited in the Armory Show with 1969 Gallery in New York. Her work has been featured in the Brooklyn Rail\, Artnet News\, Juxtapoz\, Blouin Art Info\, and in Suzanne Hudson’s latest issue of Contemporary Painting (World of Art). She is the recipient of an Elizabeth Greenshields Grant and the Yale University Gloucester Painting Prize. Residencies include the Guild of Adventure Painters SWAB Mobile Residency in 2019. She is the Founder and Director of Bomb Pop-Up\, a pop-up Art & Music initiative that focuses on providing visibility in exciting contexts to emerging and established artists and musicians; working with other 200 artists from all over the world and collaborating with institutions such as the National Academy of Design. Cofield has been a visiting artist at Cooper Union\, Pratt Institute\, and the School of Visual Arts. She is currently an Assistant Professor of Art at DePauw University in Greencastle\, Indiana. \nImage :”Hole” 60 x 50 inches\, oil on canvas\nThis exhibition was made possible by the Arts Council of Indianapolis\, The City of Indianapolis\, The Andy Warhol Foundation for the Visual Arts and The Allen Whitehill Clowes Charitable Foundation.
URL:https://www.bigcar.org/event/9644/
LOCATION:Contemporary Art Museum of Indianapolis (CAMi)\, 1125 Cruft St.\, Indianapolis\, IN\, 46203\, United States
CATEGORIES:Garfield Park,Shelby St. Corridor,Visual Art
ATTACH;FMTTYPE=image/jpeg:https://www.bigcar.org/wp-content/uploads/2022/03/Hole.jpg
END:VEVENT
END:VCALENDAR