BEGIN:VCALENDAR
VERSION:2.0
PRODID:-//Big Car - ECPv6.9.0//NONSGML v1.0//EN
CALSCALE:GREGORIAN
METHOD:PUBLISH
X-WR-CALNAME:Big Car
X-ORIGINAL-URL:https://www.bigcar.org
X-WR-CALDESC:Events for Big Car
REFRESH-INTERVAL;VALUE=DURATION:PT1H
X-Robots-Tag:noindex
X-PUBLISHED-TTL:PT1H
BEGIN:VTIMEZONE
TZID:America/Indiana/Indianapolis
BEGIN:DAYLIGHT
TZOFFSETFROM:-0500
TZOFFSETTO:-0400
TZNAME:EDT
DTSTART:20220313T070000
END:DAYLIGHT
BEGIN:STANDARD
TZOFFSETFROM:-0400
TZOFFSETTO:-0500
TZNAME:EST
DTSTART:20221106T060000
END:STANDARD
END:VTIMEZONE
BEGIN:VEVENT
DTSTART;TZID=America/Indiana/Indianapolis:20220117T120000
DTEND;TZID=America/Indiana/Indianapolis:20220117T170000
DTSTAMP:20260424T084802
CREATED:20220116T205531Z
LAST-MODIFIED:20220116T205531Z
UID:9500-1642420800-1642438800@www.bigcar.org
SUMMARY:Snuggy Bear Presents: MLK Day 2022
DESCRIPTION:Live programming from 12p-5p on WQRT 99.1 FM\nTImes are subject to change.\nSunggyBear Presents\n12:00 Oreo Jones\n(Opening introduction building understanding of concept.)\n12:15 Ashley Gurvitz (Community Advocate)\n12:45 Tiana Cain (APLR Artist\, Entrepreneur)\n1:15 Thomas Kneeland (Published Poet)\n1:45 Rebecca Robinson (Visual Artist\, “18 Collective”)\n2:15 Oreo Jones (APLR Artist\, Recording Artist\, Station Manager)\n2:45 Carrington Clinton (APLR Artist\, Performing Artist)\n3:15 Quinton Holland (Counselor and Therapist\, Entrepreneur)\n3:45 Andrea Hunley (IPS Principal\, State Senate Candidate)\n4:30 Ebony Chappel\nClosing of the day rebuilding understanding of concept.\nAbout Snuggy Bear\nLargely underrepresented in museums and galleries\, “Snuggy Bear”\, Dr. Jarrod Nicholas Dortch is part of a movement of Black artists and curators who are hosting exhibits and creating work that shines a light on Black culture. He has been affiliated with Big Car as a Community Artist and Gardener at the Tube Factory artspace. He is also a member of “The Eighteen” a collective of local artists who made history by painting the #BlackLivesMatter mural on historic Indiana Avenue in downtown Indianapolis\, Indiana. Since this offering he has been part of exhibitions and programs at the Children’s Museum of Indianapolis and The Indianapolis Art Center\, curated “Art and Vinyl” an annual celebration of Black art and music for Big Car and has received several grants to create artworks throughout the city. His work was displayed on downtown storefronts during the NCAA Men’s and Women’s College Basketball Tournament as part of #SWISH. Dortch serves as both a professor of communication and a business owner. He owns and operates Solful Gardens\, a natural produce provider in Central Indiana that brings quality food access to urban areas that are underserved with an overall focus on food equity. He also has created Snuggy Bear Presents as a way to further disrupt the status quo of contemporary and fine art. With roots in art\, community\, and education\, Snuggy Bear is leveraging these disciplines to help promote personal and communal growth one bespoke curation at a time.
URL:https://www.bigcar.org/event/snuggy-bear-presents-mlk-day-2022/
LOCATION:99.1 WQRT\, United States
CATEGORIES:Garfield Park,Listen Hear,Shelby St. Corridor
ATTACH;FMTTYPE=image/jpeg:https://www.bigcar.org/wp-content/uploads/2021/11/Snuggy-Bear-Presents.jpeg
END:VEVENT
END:VCALENDAR