BEGIN:VCALENDAR
VERSION:2.0
PRODID:-//Big Car - ECPv6.9.0//NONSGML v1.0//EN
CALSCALE:GREGORIAN
METHOD:PUBLISH
X-ORIGINAL-URL:https://www.bigcar.org
X-WR-CALDESC:Events for Big Car
REFRESH-INTERVAL;VALUE=DURATION:PT1H
X-Robots-Tag:noindex
X-PUBLISHED-TTL:PT1H
BEGIN:VTIMEZONE
TZID:America/Indiana/Indianapolis
BEGIN:DAYLIGHT
TZOFFSETFROM:-0500
TZOFFSETTO:-0400
TZNAME:EDT
DTSTART:20190310T070000
END:DAYLIGHT
BEGIN:STANDARD
TZOFFSETFROM:-0400
TZOFFSETTO:-0500
TZNAME:EST
DTSTART:20191103T060000
END:STANDARD
END:VTIMEZONE
BEGIN:VEVENT
DTSTART;TZID=America/Indiana/Indianapolis:20190918T170000
DTEND;TZID=America/Indiana/Indianapolis:20190918T200000
DTSTAMP:20260423T060426
CREATED:20190305T203336Z
LAST-MODIFIED:20190911T213655Z
UID:7776-1568826000-1568836800@www.bigcar.org
SUMMARY:Pints for Parks - Featuring Indy Urban Acres
DESCRIPTION:Our Indy Parks are beautiful\, but it is our programming partners and park users (you) who give them life! \nJoin us at the Tube Factory artspace the second Wednesday every other month for Flat12 Bierwerks Indianapolis beer\, and tons of fun! \n$1 per beer supports the Indianapolis Parks Foundation! \nhttps://www.indyparksfoundation.org/indy-urban-acres/ \n*Family Friendly*
URL:https://www.bigcar.org/event/pints-for-parks-featuring-indy-urban-acres/
LOCATION:Contemporary Art Museum of Indianapolis (CAMi)\, 1125 Cruft St.\, Indianapolis\, IN\, 46203\, United States
CATEGORIES:FALL CREEK GARDENS COMMUNITY STAGE,Garfield Park,Outdoor Activities
ATTACH;FMTTYPE=image/jpeg:https://www.bigcar.org/wp-content/uploads/2019/03/50116065_10155896129781551_6981576520556871680_n.jpg
END:VEVENT
END:VCALENDAR