BEGIN:VCALENDAR
VERSION:2.0
PRODID:-//Big Car - ECPv6.9.0//NONSGML v1.0//EN
CALSCALE:GREGORIAN
METHOD:PUBLISH
X-ORIGINAL-URL:https://www.bigcar.org
X-WR-CALDESC:Events for Big Car
REFRESH-INTERVAL;VALUE=DURATION:PT1H
X-Robots-Tag:noindex
X-PUBLISHED-TTL:PT1H
BEGIN:VTIMEZONE
TZID:America/Indiana/Indianapolis
BEGIN:DAYLIGHT
TZOFFSETFROM:-0500
TZOFFSETTO:-0400
TZNAME:EDT
DTSTART:20190310T070000
END:DAYLIGHT
BEGIN:STANDARD
TZOFFSETFROM:-0400
TZOFFSETTO:-0500
TZNAME:EST
DTSTART:20191103T060000
END:STANDARD
END:VTIMEZONE
BEGIN:VEVENT
DTSTART;TZID=America/Indiana/Indianapolis:20190710T170000
DTEND;TZID=America/Indiana/Indianapolis:20190710T200000
DTSTAMP:20260423T073135
CREATED:20190305T203206Z
LAST-MODIFIED:20190305T203206Z
UID:7774-1562778000-1562788800@www.bigcar.org
SUMMARY:Pints for Parks - Featuring Nine13 Sports
DESCRIPTION:Our Indy Parks are beautiful\, but it is our programming partners and park users (you) who give them life! \nJoin us at the Tube Factory artspace the second Wednesday every other month for Flat12 Bierwerks Indianapolis beer\, and tons of fun! \n$1 per beer supports the Indianapolis Parks Foundation! \nhttps://nine13sports.org \n*Family Friendly*
URL:https://www.bigcar.org/event/pints-for-parks-featuring-nine13-sports/
LOCATION:Contemporary Art Museum of Indianapolis (CAMi)\, 1125 Cruft St.\, Indianapolis\, IN\, 46203\, United States
CATEGORIES:FALL CREEK GARDENS COMMUNITY STAGE,Garfield Park,Outdoor Activities,Shelby St. Corridor
ATTACH;FMTTYPE=image/jpeg:https://www.bigcar.org/wp-content/uploads/2019/03/50116065_10155896129781551_6981576520556871680_n.jpg
END:VEVENT
BEGIN:VEVENT
DTSTART;TZID=America/Indiana/Indianapolis:20190725T180000
DTEND;TZID=America/Indiana/Indianapolis:20190725T220000
DTSTAMP:20260423T073135
CREATED:20190529T170549Z
LAST-MODIFIED:20190529T170549Z
UID:8062-1564077600-1564092000@www.bigcar.org
SUMMARY:Lockerbie Night Market
DESCRIPTION:In partnership with Citimark and Gershman Partners\, Spark Placemaking and Big Car Collaborative are back for another year to host four Night Markets at Lockerbie! \nThanks to our friends at Sun King Brewery\, beer will also be available for purchase at the pop-up beer garden located right off the Cultural Trail on Alabama Street. \nJoin us for an evening downtown\, full of opportunities to enjoy the local Indianapolis arts\, music\, and food scene. Purchase goods from local artists and food vendors or relax and take in live music. \nVendors\, food trucks\, and musical acts will be announced closer to each date. All ages // Free and open to the public. \n*If you would like to become an artist vendor for June\, please fill out the following application: https://www.surveymonkey.com/r/LGNDZK8 \nTo learn more about events at Lockerbie Marketplace\, visit https://www.bigcar.org/lockerbie/
URL:https://www.bigcar.org/event/lockerbie-night-market-2/
LOCATION:Needler’s Market\, 320 N New Jersey\, Indianapolis\, IN\, 46204\, United States
CATEGORIES:Downtown Indy,Outdoor Activities,SPARK
ATTACH;FMTTYPE=image/jpeg:https://www.bigcar.org/wp-content/uploads/2017/11/lockerbie_1.jpg
END:VEVENT
END:VCALENDAR