BEGIN:VCALENDAR
VERSION:2.0
PRODID:-//Big Car - ECPv6.9.0//NONSGML v1.0//EN
CALSCALE:GREGORIAN
METHOD:PUBLISH
X-WR-CALNAME:Big Car
X-ORIGINAL-URL:https://www.bigcar.org
X-WR-CALDESC:Events for Big Car
REFRESH-INTERVAL;VALUE=DURATION:PT1H
X-Robots-Tag:noindex
X-PUBLISHED-TTL:PT1H
BEGIN:VTIMEZONE
TZID:America/Indiana/Indianapolis
BEGIN:DAYLIGHT
TZOFFSETFROM:-0500
TZOFFSETTO:-0400
TZNAME:EDT
DTSTART:20190310T070000
END:DAYLIGHT
BEGIN:STANDARD
TZOFFSETFROM:-0400
TZOFFSETTO:-0500
TZNAME:EST
DTSTART:20191103T060000
END:STANDARD
END:VTIMEZONE
BEGIN:VEVENT
DTSTART;TZID=America/Indiana/Indianapolis:20190601T080000
DTEND;TZID=America/Indiana/Indianapolis:20190601T230000
DTSTAMP:20260423T072815
CREATED:20190520T203119Z
LAST-MODIFIED:20190520T203126Z
UID:8000-1559376000-1559430000@www.bigcar.org
SUMMARY:Tarkington Park Fest 2019
DESCRIPTION:Come laugh and play—all ages\, all neighbors\, all day. Bring your family\, bring a pet\, invite a stranger\, invite a friend. We invite all midtown neighbors to come and experience a day-long festival of fun put on by neighbors for neighbors. The splash pad will be open\, the stage will be poppin’\, the food will be delicious (and local)\, and the cherry on top will be the movie in the park at sundown. The Wagon of Wonders and Big Car staff will be present with art\, games\, and more!
URL:https://www.bigcar.org/event/tarkington-park-fest-2019/
LOCATION:Tarkington Park\, 45 W 40th St\, Indianapolis\, 46208\, United States
CATEGORIES:Outdoor Activities,SPARK
ATTACH;FMTTYPE=image/jpeg:https://www.bigcar.org/wp-content/uploads/2019/05/45829983445_784ff7554a_o.jpg
END:VEVENT
BEGIN:VEVENT
DTSTART;TZID=America/Indiana/Indianapolis:20190627T180000
DTEND;TZID=America/Indiana/Indianapolis:20190627T220000
DTSTAMP:20260423T072815
CREATED:20190529T170404Z
LAST-MODIFIED:20190529T170404Z
UID:8060-1561658400-1561672800@www.bigcar.org
SUMMARY:Lockerbie Night Market
DESCRIPTION:In partnership with Citimark and Gershman Partners\, Spark Placemaking and Big Car Collaborative are back for another year to host four Night Markets at Lockerbie! \nThanks to our friends at Sun King Brewery\, beer will also be available for purchase at the pop-up beer garden located right off the Cultural Trail on Alabama Street. \nJoin us for an evening downtown\, full of opportunities to enjoy the local Indianapolis arts\, music\, and food scene. Purchase goods from local artists and food vendors or relax and take in live music. \nVendors\, food trucks\, and musical acts will be announced closer to each date. All ages // Free and open to the public. \n*If you would like to become an artist vendor for June\, please fill out the following application: https://www.surveymonkey.com/r/LGNDZK8 \nTo learn more about events at Lockerbie Marketplace\, visit https://www.bigcar.org/lockerbie/
URL:https://www.bigcar.org/event/lockerbie-night-market/
CATEGORIES:Downtown Indy,Outdoor Activities,SPARK
ATTACH;FMTTYPE=image/jpeg:https://www.bigcar.org/wp-content/uploads/2017/11/lockerbie_1.jpg
END:VEVENT
END:VCALENDAR