BEGIN:VCALENDAR
VERSION:2.0
PRODID:-//Big Car - ECPv6.9.0//NONSGML v1.0//EN
CALSCALE:GREGORIAN
METHOD:PUBLISH
X-WR-CALNAME:Big Car
X-ORIGINAL-URL:https://www.bigcar.org
X-WR-CALDESC:Events for Big Car
REFRESH-INTERVAL;VALUE=DURATION:PT1H
X-Robots-Tag:noindex
X-PUBLISHED-TTL:PT1H
BEGIN:VTIMEZONE
TZID:America/Indiana/Indianapolis
BEGIN:DAYLIGHT
TZOFFSETFROM:-0500
TZOFFSETTO:-0400
TZNAME:EDT
DTSTART:20250309T070000
END:DAYLIGHT
BEGIN:STANDARD
TZOFFSETFROM:-0400
TZOFFSETTO:-0500
TZNAME:EST
DTSTART:20251102T060000
END:STANDARD
END:VTIMEZONE
BEGIN:VEVENT
DTSTART;TZID=America/Indiana/Indianapolis:20250220T183000
DTEND;TZID=America/Indiana/Indianapolis:20250220T200000
DTSTAMP:20260424T084936
CREATED:20250121T215610Z
LAST-MODIFIED:20250122T193837Z
UID:12828-1740076200-1740081600@www.bigcar.org
SUMMARY:ASMR Live - Sesseka
DESCRIPTION:Join us in the gallery for a live performance of ASMR with artist Jessica Dunn\, aka\, Sesseka\, who will lead an audiovisual meditation experience.\n\nDoors 6:30pm.\nPerformance 7pm\n\nAutonomous Sensory Meridian Response (ASMR) is a previously unstudied sensory phenomenon\, in which individuals experience a tingling\, static-like sensation across the scalp\, back of the neck and at times further areas in response to specific triggering audio and visual stimuli. This sensation is widely reported to be accompanied by feelings of relaxation and well-being. The current study identifies several common triggers used to achieve ASMR\, including whispering\, personal attention\, crisp sounds and slow movements. Data obtained also illustrates temporary improvements in symptoms of depression and chronic pain in those who engage in ASMR.\nJessica Dunn (sesseka) is a multimedia artist known for her immersive\, dreamlike worlds combining video\, sound\, and physical installations. With a scientific curiosity\, she finds inspiration by investigating the natural world as well as psychological realms of consciousness. Dunn graduated from Herron School of Art + Design with a double major in painting and sculpture. Caught between 2D and 3D practices\, she found her calling in 4D art including experimental animation\, performance\, and experiential works. With a medium-agnostic mindset\, Dunn utilizes a wide variety of materials allowing the concept to drive the process. Lately\, Dunn has extended her practice into filmmaking including short documentaries and narrative animations. No matter the format\, Dunn’s work invites the viewer to open their perception to explore new realms of reality. \nThis series is part of the exhibit Julie Xiao\, “A Journey.” Events in the gallery during this show will center around healing and mediation.
URL:https://www.bigcar.org/event/asmr-live-sesseka/
CATEGORIES:Downtown Indy,Garfield Park,Shelby St. Corridor,Visual Art
ATTACH;FMTTYPE=image/jpeg:https://www.bigcar.org/wp-content/uploads/2025/01/IMG_2935-1.jpg
END:VEVENT
END:VCALENDAR