BEGIN:VCALENDAR
VERSION:2.0
PRODID:-//Big Car - ECPv6.9.0//NONSGML v1.0//EN
CALSCALE:GREGORIAN
METHOD:PUBLISH
X-ORIGINAL-URL:https://www.bigcar.org
X-WR-CALDESC:Events for Big Car
REFRESH-INTERVAL;VALUE=DURATION:PT1H
X-Robots-Tag:noindex
X-PUBLISHED-TTL:PT1H
BEGIN:VTIMEZONE
TZID:America/Indiana/Indianapolis
BEGIN:DAYLIGHT
TZOFFSETFROM:-0500
TZOFFSETTO:-0400
TZNAME:EDT
DTSTART:20250309T070000
END:DAYLIGHT
BEGIN:STANDARD
TZOFFSETFROM:-0400
TZOFFSETTO:-0500
TZNAME:EST
DTSTART:20251102T060000
END:STANDARD
END:VTIMEZONE
BEGIN:VEVENT
DTSTART;TZID=America/Indiana/Indianapolis:20250207T190000
DTEND;TZID=America/Indiana/Indianapolis:20250207T200000
DTSTAMP:20260424T102457
CREATED:20250121T211500Z
LAST-MODIFIED:20250122T193737Z
UID:12817-1738954800-1738958400@www.bigcar.org
SUMMARY:ASMR Live-Landon Caldwell
DESCRIPTION:Join us in the Main Gallery for a live performance of ASMR with artist Landon Caldwell. \nAutonomous Sensory Meridian Response (ASMR) is a previously unstudied sensory phenomenon\, in which individuals experience a tingling\, static-like sensation across the scalp\, back of the neck and at times further areas in response to specific triggering audio and visual stimuli. This sensation is widely reported to be accompanied by feelings of relaxation and well-being. The current study identifies several common triggers used to achieve ASMR\, including whispering\, personal attention\, crisp sounds and slow movements. Data obtained also illustrates temporary improvements in symptoms of depression and chronic pain in those who engage in ASMR. \nLandon Caldwell is a multi-disciplinary artist and composer based in Indianapolis. His work explores environment\, family\, and class\, using sound\, words\, color\, and other materials\, presenting immersive environments that redirect attention to the present and reveal hidden layers of reality. Landon has toured extensively across the US\, Canada\, and Europe and regularly collaborates with artists and musicians in the Midwest and beyond\, having served time in improvisational units like Eternal Husk\, Crazy Doberman\, and the Open Sex. With Mark Tester\, he curates and runs Medium Sound\, a focal point of adventurous music in Indianapolis. Since 2020\, he has host free sound art programming\, installations\, and workshops through Sonic Potluck\, a collaboration with Rob Funkhouser. His installation work has been exhibited at the Indianapolis Museum of Art\, The Terminal Kyoto\, the Indiana State Museum\, and more. \nThis series is part of the exhibit Julie Xiao\, “A Journey.” Events in the gallery during this show will center around healing and mediation.
URL:https://www.bigcar.org/event/asmr-live-landon-caldwell/
LOCATION:Contemporary Art Museum of Indianapolis (CAMi)\, 1125 Cruft St.\, Indianapolis\, IN\, 46203\, United States
CATEGORIES:Downtown Indy,Garfield Park,Shelby St. Corridor,Visual Art
ATTACH;FMTTYPE=image/jpeg:https://www.bigcar.org/wp-content/uploads/2025/01/IMG_2935-1.jpg
END:VEVENT
END:VCALENDAR