BEGIN:VCALENDAR
VERSION:2.0
PRODID:-//Big Car - ECPv6.9.0//NONSGML v1.0//EN
CALSCALE:GREGORIAN
METHOD:PUBLISH
X-WR-CALNAME:Big Car
X-ORIGINAL-URL:https://www.bigcar.org
X-WR-CALDESC:Events for Big Car
REFRESH-INTERVAL;VALUE=DURATION:PT1H
X-Robots-Tag:noindex
X-PUBLISHED-TTL:PT1H
BEGIN:VTIMEZONE
TZID:America/Indiana/Indianapolis
BEGIN:DAYLIGHT
TZOFFSETFROM:-0500
TZOFFSETTO:-0400
TZNAME:EDT
DTSTART:20240310T070000
END:DAYLIGHT
BEGIN:STANDARD
TZOFFSETFROM:-0400
TZOFFSETTO:-0500
TZNAME:EST
DTSTART:20241103T060000
END:STANDARD
END:VTIMEZONE
BEGIN:VEVENT
DTSTART;TZID=America/Indiana/Indianapolis:20240518T090000
DTEND;TZID=America/Indiana/Indianapolis:20240518T120000
DTSTAMP:20260425T121543
CREATED:20240424T195630Z
LAST-MODIFIED:20240425T200002Z
UID:11862-1716022800-1716033600@www.bigcar.org
SUMMARY:Community Sound lab 1: Listening and Recording
DESCRIPTION:Sound artists Rob Funkhouser and Landon Caldwell will start with a basic overview of intentional listening and field recording\, and then lead participants on a sound walk through Garfield Park where everyone will get a chance to record sounds that they find to be interesting. For the second half of the workshop\, there will be an opportunity for hands-on play with a modular synthesizer\, as well as lessons on how to handle files\, and prepare them to be used in your own personal projects.\n\nWe encourage people to come to either or both of these workshops. All ages and\, all skill levels are welcome\, this will be a  family-friendly activity.
URL:https://www.bigcar.org/event/community-sound-lab-1-listening-and-recording/
LOCATION:Contemporary Art Museum of Indianapolis (CAMi)\, 1125 Cruft St.\, Indianapolis\, IN\, 46203\, United States
CATEGORIES:Downtown Indy,Garfield Park,Listen Hear,Visual Art
ATTACH;FMTTYPE=image/png:https://www.bigcar.org/wp-content/uploads/2024/04/funkoftherob_piano_grass_glass_instrument_d12128b0-7b48-4f9a-951a-b7490ccccc8c.png
END:VEVENT
END:VCALENDAR