BEGIN:VCALENDAR
VERSION:2.0
PRODID:-//Big Car - ECPv6.9.0//NONSGML v1.0//EN
CALSCALE:GREGORIAN
METHOD:PUBLISH
X-ORIGINAL-URL:https://www.bigcar.org
X-WR-CALDESC:Events for Big Car
REFRESH-INTERVAL;VALUE=DURATION:PT1H
X-Robots-Tag:noindex
X-PUBLISHED-TTL:PT1H
BEGIN:VTIMEZONE
TZID:America/Indiana/Indianapolis
BEGIN:DAYLIGHT
TZOFFSETFROM:-0500
TZOFFSETTO:-0400
TZNAME:EDT
DTSTART:20250309T070000
END:DAYLIGHT
BEGIN:STANDARD
TZOFFSETFROM:-0400
TZOFFSETTO:-0500
TZNAME:EST
DTSTART:20251102T060000
END:STANDARD
END:VTIMEZONE
BEGIN:VEVENT
DTSTART;TZID=America/Indiana/Indianapolis:20250307T180000
DTEND;TZID=America/Indiana/Indianapolis:20250420T150000
DTSTAMP:20260422T054251
CREATED:20250115T222606Z
LAST-MODIFIED:20250115T222731Z
UID:12805-1741370400-1745161200@www.bigcar.org
SUMMARY:Steven Yazzie and Nancy Baric: The Nearness of Distance
DESCRIPTION:Jeremy Efroymson Gallery \n“My Child\, I will feed you\, give you good health\, and I will give you strength and courage.” \n“These are the opening words of Steven J. Yazzie’s 2015 video\, Mountain Song\, which appear scrawled across the inky blank screen in white letters. The work evokes that of an epic poem akin to Homer or Virgil\, signifying a journey that lies before the one who watches and listens to it. Vacillating between testimonies from Indigenous community members and archival audio bytes of the Apollo 11 lunar landing in 1969\, the piece creates a tension between power structures\, sacred knowledges\, and the struggle between living in balance with the natural world and the relentless march of colonial progress through the mechanism and machinations of capitalism – pushing humanity to reach new heights at the expense of the natural order and health of the world. \nYazzie focuses in on the devastating impacts that uranium and its mining have had not only on Indigenous communities\,  but on the environment writ large\, linking uranium to Indigenous cosmologies and histories – referring to the chemical element as an invisible monster. The development of uranium extraction and its weaponization forced/es a wedge between traditional ways of living\, replacing a way to live with a colonial sickness that poisons the land\, pollutes the water\, and creates a level of radioactivity within the consciousness. When Yazzie writes “My child\, what I am dressed with is what you are dressed with. I am your home and mother and father\,” in the fourth and final verse of his poem\, he reminds us that what we do to the earth\, to our mother\, our father\, we do unto ourselves. A caution that the monsters we awaken cannot be put back into slumber. \nThe idea of monsters and the monstrous continues in the 2021 film by Nancy Barić\, Electric Water. The film creates a pastiche of memory\, histories\, and connection – looking at her own heritage and ancestral arrival to North America from the Adriatic Sea and the origin stories and cosmologies of the Haudenosaunee and their connection to Niagara Falls. Barić illuminates the power of water\, in natural understandings\, capitalistic understandings\, and spiritual understandings. In tying her connection to place\, Barić speaks of Nikola Tesla\, whose shared country of origin as her families also creates a binding of herself and her genetic memory to the site of Niagara. Tesla’s invention and design of the first hydro-electric power plant at the Falls\, which he envisioned for good and to provide power for free to the people\, was corrupted by the long tentacles of capitalism. Capitalism and its reach exist like a mutant creature – distorting\, corrupting\, and poisoning what it touches. \nIn the film\, Barić interviews Rick Hill\, a member of the Haudenosaunee community – who grew up near the Falls. Hill shares portions of the Nation’s story of origin\, talking about the Creator and his malevolent brother known as Flint. For every good thing the Creator brought into being\, Flint would create a wicked counterpart\, monsters. During a time of duel between the brothers\, they threw and thrashed each other around  cataclysmically shifting and shaping the landscape\, which Hill believes is what molded the Falls in its current form. To counteract the monsters of his brother’s making\, the Creator brought to life Thunder Beings\, that with the clap and shock of their existence\, drove the monsters back into the ground; Beings which left the Falls when tourism took over – heading west to the Rockies – returning to bring rain every season. The film illuminates the severed connection to culture through colonial abuses and extractive methodological approaches to ‘progress.’ Through the commercialization of the natural world\, the spiritual connection is cut – fissured in ways that create barriers to the holy relation to place. Barić and Yazzie show the fissures that occur when the pollution\, extraction\, and forced control over the earth take over\, urging a return to the stories and power of living in balance.” \n–Eric Joyce \nSteven Yazzie — Mountain Song (11 mins) Mountain Song is part of a series of video/film installation work exploring Diné/Navajo sacred mountains. Structured in four verses\, the film explores indigenous knowledge\, mystery\, resource exploitation (uranium)\, and post-colonial reflections on community life. Conversations I recorded with elders\, friends\, and community members are set against the backdrop of a personal journey to a sacred Diné/Navajo mountain\, Dibé Nitsaa\, in southern Colorado\, eventually ending at a mountain outside my backyard where I once lived in Phoenix\, Arizona. Concurrently throughout the film\, the radio chatter of the first humans landing on the Moon in 1969 (Apollo Mission) can be heard. The intersection of moon landing audio\, indigenous stories\, and aerial views of tribal territories echo memories of our shared histories while complicating the experience of the perpetual outsider with subjective indigeneity. \nNancy Baric — Electric Water (25 mins)\, an experimental documentary and a meditation on the poetics and politics of water\, moving between my heritage from the Adriatic Sea and the Haudenosaunee perspective on Niagara Falls. While our connection to water is disrupted by pollution\, dams\, and the tourist’s gaze\, there are stories and insights that lead back to water’s power and teachings. \nSteven and I met and quickly realized there was a shared world view especially regarding our relationship to land and water. I feel that the two films speak to each and offer a great opportunity to provide a dialogue due to commonality from an Indigenous and non-Indigenous perspective and one of which also extends to the audience. The two films explore issues of representation\, ecology and stewardship\, and are examples of connection/disconnection due to colonialism. The films together also offer hope for a better future through mutual care. \nSteven Yazzie — is a multidisciplinary artist working in painting\, installation\, video/film\, and community collaborations. His work explores the complexities of post-colonial indigenous identity and an ever-evolving community relationship\, with a fundamental view that land is the source of life\, story\, conflict\, and healing. \nNancy Baric is Montreal-based artist and filmmaker working at the intersection of cinema and installation. Her practice explores the relationship between ecology\, human perception\, and intuitive procedures.
URL:https://www.bigcar.org/event/steven-yazzie-and-nancy-baric-the-nearness-of-distance/
LOCATION:Contemporary Art Museum of Indianapolis (CAMi)\, 1125 Cruft St.\, Indianapolis\, IN\, 46203\, United States
CATEGORIES:Downtown Indy,Garfield Park,Shelby St. Corridor,Visual Art
ATTACH;FMTTYPE=image/jpeg:https://www.bigcar.org/wp-content/uploads/2025/01/Nearness-of-Distance-Promo-2.jpeg
END:VEVENT
BEGIN:VEVENT
DTSTART;TZID=America/Indiana/Indianapolis:20250326T190000
DTEND;TZID=America/Indiana/Indianapolis:20250326T210000
DTSTAMP:20260422T054251
CREATED:20250109T010527Z
LAST-MODIFIED:20250218T175014Z
UID:12776-1743015600-1743022800@www.bigcar.org
SUMMARY:Flore Laurentienne at Tube Factory artspace
DESCRIPTION:Flore Laurentienne is performing at Tube Factory artspace on Wednesday\, March\, 26\, 2025 from 7-9pm EST. \nTickets are $10 and can be purchased HERE via Eventbrite. \nIn addition\, Indianapolis composer and instrumentalist Rob Funkhouser will open the concert.  \n\nEach performance is a chance to step into a world where music and nature intertwine—a rare and intimate experience. \nFlore Laurentienne is an open window to the technicolor soundscapes of Mathieu David Gagnon – the Canadian composer\, producer and multi-instrumentalist who shapes vast orchestral sound to interpret the rugged wilderness and waters of his native Québec. The namesake of an inventory documenting St. Lawrence Valley flora\, Flore Laurentienne illumes the science and spirit of his surrounds through expansive string orchestrations melded with the textures and experimentation of early analogue synths. \nFollowing the compass and critical acclaim of his Volume I debut\, Flore Laurentienne returned in October 2022 with Volume II to resume his voyage into environment and emotion. Recorded with string and clarinet ensembles along with Gagnon’s signature modulation\, Volume II explores forces of water as metaphorical markers to navigate passages of life and loss\, . Reflecting the parallel tenors of nature and humankind\, Volume II locates another estuary in Flore Laurentienne’s tides toward contemporary sonic romanticism. \nIn his approach to composition hued by leitmotif and constraint\, Gagnon challenges himself to extract beauty from simplicity in homage to the changing faces of natural landscapes. The presence of familiarity and flux in Volume I is heightened through the vivid instrumentation of a fifteen-piece string orchestra\, which Gagnon brings together with an array of 1960s and 70s synthesizers\, including the Minimoog Model D\, the EMS Synthi and combo organs – an innately ambitious project which forges the composer’s distinctive path in the expansion of classical music archetypes. \nFlore Laurentienne was nominated in seven categories at the 2020 ADISQ in Québec\, winning the ‘Arrangement of the Year’ and ‘Sound Recording and Mixing of the Year’. In 2020\, Volume I was longlisted for the Polaris Music Prize and received four nominations at the Felix Awards for ‘Revelation of the Year’\, ‘Songwriter of the Year’\, ‘Critic’s Choice Album of the Year’ and ‘Instrumental Album of the Year’. In 2021\, Flore Laurentienne was nominated for the** Juno Awards** ‘Instrumental Album of the Year’ in recognition for his contribution to Canadian music. In addition\, Fleuve No. 1 opened the Chanel fashion show at Paris Fashion Week 2022. \nAwards & Recognition \nNominated at the 2021 JUNOS Awards for Instrumental Album of the Year \nNominated on the 2020 Polaris Prize Short List for Volume 1 \nWinner at the 2020 ADISQ for Arrangement of the Yearfor Volume 1 \nWinner at the 2020 ADISQ for Sound Recording and Mixing of the Year for Volume 1 \nNominated at the 2020 ADISQ for Best New Artist \nNominated at the 2020 ADISQ for Album of the Year – Critic’s Choice for Volume 1 \nNominated at the 2020 ADISQ for Author or Composer of the Year for Volume 1 \nNominated at the 2020 ADISQ for Revelation of the Year for Volume 1 \nNominated at the 2020 ADISQ for Songwriter of the Year for Volume 1 \nNominated at the 2020 ADISQ for Album of the Year – Instrumental for Volume 1 \n\nRob Funkhouser is a composer\, performer\, and instrument builder who can never quite sit still. His work is concerned with ideas of place\, memory\, and pattern and he is interested in interrogating the interstitial spaces between established genres.
URL:https://www.bigcar.org/event/flore/
LOCATION:Contemporary Art Museum of Indianapolis (CAMi)\, 1125 Cruft St.\, Indianapolis\, IN\, 46203\, United States
CATEGORIES:Downtown Indy,Garfield Park,Shelby St. Corridor
ATTACH;FMTTYPE=image/jpeg:https://www.bigcar.org/wp-content/uploads/2025/01/lead-photo___Flore-Laurentinne-©-Charline-Clavier.jpg
ORGANIZER;CN="Big Car Collaborative":MAILTO:info@bigcar.org
END:VEVENT
END:VCALENDAR