BEGIN:VCALENDAR
VERSION:2.0
PRODID:-//Big Car - ECPv6.9.0//NONSGML v1.0//EN
CALSCALE:GREGORIAN
METHOD:PUBLISH
X-WR-CALNAME:Big Car
X-ORIGINAL-URL:https://www.bigcar.org
X-WR-CALDESC:Events for Big Car
REFRESH-INTERVAL;VALUE=DURATION:PT1H
X-Robots-Tag:noindex
X-PUBLISHED-TTL:PT1H
BEGIN:VTIMEZONE
TZID:America/Indiana/Indianapolis
BEGIN:DAYLIGHT
TZOFFSETFROM:-0500
TZOFFSETTO:-0400
TZNAME:EDT
DTSTART:20220313T070000
END:DAYLIGHT
BEGIN:STANDARD
TZOFFSETFROM:-0400
TZOFFSETTO:-0500
TZNAME:EST
DTSTART:20221106T060000
END:STANDARD
BEGIN:DAYLIGHT
TZOFFSETFROM:-0500
TZOFFSETTO:-0400
TZNAME:EDT
DTSTART:20230312T070000
END:DAYLIGHT
BEGIN:STANDARD
TZOFFSETFROM:-0400
TZOFFSETTO:-0500
TZNAME:EST
DTSTART:20231105T060000
END:STANDARD
END:VTIMEZONE
BEGIN:VEVENT
DTSTART;TZID=America/Indiana/Indianapolis:20220412T100000
DTEND;TZID=America/Indiana/Indianapolis:20220412T220000
DTSTAMP:20260420T031013
CREATED:20220312T000553Z
LAST-MODIFIED:20220312T000810Z
UID:9624-1649757600-1649800800@www.bigcar.org
SUMMARY:Social Alchemy Symposium-IN Context
DESCRIPTION:The Social Alchemy Symposium is a participatory mini-conference happening online and in person in New Harmony\, Indiana April 10-13\, 2022.\n\nEach day is themed and focused on single days. The symposium is free to attend either virtually or in person. Donations are appreciated and can be made via the registration link.\nDiscounted lodging is available at the New Harmony Inn (details below). Attendees are welcome to join any parts of the conference in person\, online\, or both. Registration is required to support communication and feedback.\n\n8-10am -Mini-tours on the hour.\nJump in either in person or on-line for artist led tours of New Harmony landmarks! Check out the Harmonist Labyrinth\, a wunderkammer in the Workingmen’s Institute\, The Wabash River\, the Roofless Church and more.\n\nTUESDAY\, APRIL 12\n9:30-10:30\nOpening conversation: Learning from each other (Utopic public places\, small towns and cities)\n\n10:30-11:20\nDavid Rubin — The Dystopian Utopia in Practice\n\n11:30-noon\nCo-operative Ownership for Healthy Communities:Jacob and Nathan Bower-Bir\n\n1-1:45\nAmana\, Oneida and New Harmony with Claire Eagle\n\n2-2:45\nContemporary utopias and planned communities with Director of USI Communal Studies\, Dr. Silvia Rhode and USI Archivist\, Jennifer Greene\n\n3-3:45 In person networking/sharing\nWho Are You & What Do You Want?\n\n4-5pm Indiana in Context/ New Harmony and Columbus\, IN\nRichard McCoy\, Kathryn Armstrong and Kent Schuette and Chris Merritt discuss how the two are connected through contemporary art and design\, how the city of Columbus\, the town of New Harmony build on what our state offers\, current plans/upcoming collaborations between New Harmony and Columbus.\n\n6:30pm\nUtopian Architecture: discussion on the importance of architecture in our well-being\, past\, present and future projects with well-being in mind.\n\n8-10pm\nIn person activities\nNote: New Harmony\, IN (CST) and Indianapolis\, IN (EST)are in different time zones.\nMore about the Symposium:\nThe Social Alchemy Symposium is a participatory mini-conference happening online and in person in New Harmony\, Indiana April 10-13\, 2022.\nTwice the site of utopian experiments in communitarian living\, New Harmony is now a town rich in beauty\, culture\, and history. And it makes the perfect location for people to enjoy some moments of respite and reconnect with others through conversations about the roles of art\, design\, and place in society.\nConversations — led by more than 20 notable authors\, artists\, designers\, researchers\, and philosophers from Indiana and around the world — will look at the role of utopian thinking today and tomorrow while connecting with the past.\nThe symposium — organized through a partnership between Big Car Collaborative\, the University of Southern Indiana\, Historic New Harmony\, and the New Harmony Gallery of Contemporary Art — is made possible by Indiana Humanities\, the Efroymson Family Fund\, and New America. Additional partners include Indiana State Museum and PATTERN Magazine.\nSpeakers\, in-person unless otherwise noted\, include:\nEmily St. John Mandel\, author of the 2015 utopian/dystopian novel\, Station Eleven among other books and essays. Station Eleven has been translated into 33 languages and was adapted into an HBO series premiering in 2021 (virtual talk).\nMaurice Broaddus\, author of fiction centered on utopian and dystopian ideas through the genres of science fiction\, urban fantasy\, and horror.\nDarran Anderson\, author of Imaginary Cities (2015)\, an Irish writer focused on the intersections of urbanism\, culture\, technology and politics (virtual talk).\nCara Courage\, executive director of the Museum of Contemporary Art Detroit; scholar and author in the realms of art and placemaking; and formerly of the Tate Modern in London.\nAlso: Indiana writers Susan Neville\, Adrian Matejka\, and Matthew Graham (current poet laureate); Indiana artists and arts leaders from New Harmony\, Columbus\, Bloomington\, and Indianapolis; leading architects\, planners\, and designers; and utopian/communal studies scholars.\nWHY ATTEND?\n• To gain a deep understanding — via history\, literature\, philosophy and design — of the relationship between the built environment and social good.\n• To connect with others interested in imagining and striving for better communities.\n• To experience the extraordinary atmosphere\, public art\, and architecture of New Harmony — nestled along the Wabash River and steeped in contemporary art and a historic utopian spirit.\n• To savor the spring weather of southern Indiana.\nLocated at the southwest tip of Indiana near Evansville on land originally occupied by the Mississippian culture\, New Harmony is approximately 2.5 hours drive from Indianapolis\, and just over two hours from St. Louis and Louisville. Conference goers receive a special $89/night rate at the New Harmony Inn Resort & Conference Center. Call (812) 682-4431 to book and mention “Social Alchemy Symposium.” Click here for other lodging options.
URL:https://www.bigcar.org/event/9624/
LOCATION:Murphy Auditorium\, 419 Tavern St.\, New Harmony\, IN\, 47631\, United States
CATEGORIES:classes,conference,SPARK
ATTACH;FMTTYPE=image/jpeg:https://www.bigcar.org/wp-content/uploads/2022/03/20220307-SocialAlchemySymposium-Social3-01.jpeg
END:VEVENT
BEGIN:VEVENT
DTSTART;TZID=America/Indiana/Indianapolis:20220413T110000
DTEND;TZID=America/Indiana/Indianapolis:20220413T210000
DTSTAMP:20260420T031013
CREATED:20220312T001335Z
LAST-MODIFIED:20220312T001335Z
UID:9631-1649847600-1649883600@www.bigcar.org
SUMMARY:Social Alchemy Symposium- Imaginary Cities\, The Arts and Healing
DESCRIPTION:The Social Alchemy Symposium is a participatory mini-conference happening online and in person in New Harmony\, Indiana April 10-13\, 2022.\n\nEach day is themed and focused on single days. The symposium is free to attend either virtually or in person. Donations are appreciated and can be made via the registration link.\nDiscounted lodging is available at the New Harmony Inn (details below). Attendees are welcome to join any parts of the conference in person\, online\, or both. Registration is required to support communication and feedback.\n\nWednesday\, April 13\n8-10am central time – Mini-tours on the hour. Jump in either in person or on-line with artist led tours of various New Harmony landmarks! Check out the Harmonist Labyrinth\, a wunderkammer in the Workingmen’s Institute\, The Wabash River\, the Roofless Church and more.\n\n10-10:50 am central time\nOpening conversation:\nUtopian literature/writing in New Harmony featuring Susan Neville\, Matthew Graham\, Adrian Matejka.\n\n11 am-noon central time\nUtopic cultural projects conversation – visual art\, music & movement featuring Artist and musician\, Oreo Jones\, Visual artists\, Docey Lewis\, Big Car Co-founder\, Shauta Marsh\, Keesha Dixon\, Executive Director of Asante Art Institute of Indiana\, and Indy Dance Movement Collective Executive Director\, Lauren Curry.\n\n1:15-2:15 central time\nAuthor Maurice Broaddus\nWorldbuilding towards Community Work\nA community organizer and teacher\, his work has appeared in places like Lightspeed Magazine\, Black Panther: Tales from Wakanda\, Weird Tales\, Magazine of F&SF\, and Uncanny Magazine\, with some of his stories having been collected in The Voices of Martyrs. His books include the sci-fi novel Sweep of Stars; the steampunk works\, Buffalo Soldier and Pimp My Airship; and the middle grade detective novels\, The Usual Suspects and Unfadeable. His project\, Sorcerers\, is being adapted as a television show for AMC. He’s an editor at Apex Magazine.\n\n2:30-3:30pm central time (Zoom)\nImaginary Cities with Darran Anderson.\nAnderson is the author of Imaginary Cities and Inventory. Imaginary Cities was chosen as a best book of 2015 by the Financial Times\, The Guardian\, and the A.V. Club. His writing has appeared in The Atlantic\, the TLS\, frieze magazine\, Wired\, and the Architectural Review. He was born in Derry\, Ireland\, and lives in London.\n\n7:30pm central time (In person)\nGolf Cart Drive In-The Black Panther\, introduced by Maurice Broaddus\nNote: New Harmony\, IN (CST) and Indianapolis\, IN (EST)are in different time zones. Central time is one hour earlier than Eastern.\n\nMore about the Symposium:\nThe Social Alchemy Symposium is a participatory mini-conference happening online and in person in New Harmony\, Indiana April 10-13\, 2022.\nTwice the site of utopian experiments in communitarian living\, New Harmony is now a town rich in beauty\, culture\, and history. And it makes the perfect location for people to enjoy some moments of respite and reconnect with others through conversations about the roles of art\, design\, and place in society.\nConversations — led by more than 20 notable authors\, artists\, designers\, researchers\, and philosophers from Indiana and around the world — will look at the role of utopian thinking today and tomorrow while connecting with the past.\nThe symposium — organized through a partnership between Big Car Collaborative\, the University of Southern Indiana\, Historic New Harmony\, and the New Harmony Gallery of Contemporary Art — is made possible by Indiana Humanities\, the Efroymson Family Fund\, and New America. Additional partners include Indiana State Museum and PATTERN Magazine.\n\nSpeakers\, in-person unless otherwise noted\, include:\nEmily St. John Mandel\, author of the 2015 utopian/dystopian novel\, Station Eleven among other books and essays. Station Eleven has been translated into 33 languages and was adapted into an HBO series premiering in 2021 (virtual talk).\nMaurice Broaddus\, author of fiction centered on utopian and dystopian ideas through the genres of science fiction\, urban fantasy\, and horror.\nDarran Anderson\, author of Imaginary Cities (2015)\, an Irish writer focused on the intersections of urbanism\, culture\, technology and politics (virtual talk).\nCara Courage\, executive director of the Museum of Contemporary Art Detroit; scholar and author in the realms of art and placemaking; and formerly of the Tate Modern in London.\nAlso: Indiana writers Susan Neville\, Adrian Matejka\, and Matthew Graham (current poet laureate); Indiana artists and arts leaders from New Harmony\, Columbus\, Bloomington\, and Indianapolis; leading architects\, planners\, and designers; and utopian/communal studies scholars.\n\nWHY ATTEND?\n• To gain a deep understanding — via history\, literature\, philosophy and design — of the relationship between the built environment and social good.\n• To connect with others interested in imagining and striving for better communities.\n• To experience the extraordinary atmosphere\, public art\, and architecture of New Harmony — nestled along the Wabash River and steeped in contemporary art and a historic utopian spirit.\n• To savor the spring weather of southern Indiana.\n\nLocated at the southwest tip of Indiana near Evansville on land originally occupied by the Mississippian culture\, New Harmony is approximately 2.5 hours drive from Indianapolis\, and just over two hours from St. Louis and Louisville. Conference goers receive a special $89/night rate at the New Harmony Inn Resort & Conference Center. Call (812) 682-4431 to book and mention “Social Alchemy Symposium.” Click here for other lodging options.
URL:https://www.bigcar.org/event/social-alchemy-symposium-imaginary-cities-the-arts-and-healing/
LOCATION:Murphy Auditorium\, 419 Tavern St.\, New Harmony\, IN\, 47631\, United States
CATEGORIES:classes,conference,SPARK,Visual Art
ATTACH;FMTTYPE=image/jpeg:https://www.bigcar.org/wp-content/uploads/2022/03/20220307-SocialAlchemySymposium-Social2-01.jpeg
END:VEVENT
BEGIN:VEVENT
DTSTART;TZID=America/Indiana/Indianapolis:20230607T193000
DTEND;TZID=America/Indiana/Indianapolis:20230607T210000
DTSTAMP:20260420T031013
CREATED:20230531T011702Z
LAST-MODIFIED:20230531T011702Z
UID:10932-1686166200-1686171600@www.bigcar.org
SUMMARY:African Dance with Uzuri
DESCRIPTION:Join Uzuri Asad\, artist in Big Car’s Public Life Residency\, for a dose of culture\, self-care\, and community as we explore rhythms from West Africa and other parts of the Diaspora. Give your body and soul a moment to reflect and progress all at once\, meet Asad on the floor!
URL:https://www.bigcar.org/event/african-dance-with-uzuri-7/
LOCATION:Contemporary Art Museum of Indianapolis (CAMi)\, 1125 Cruft St.\, Indianapolis\, IN\, 46203\, United States
CATEGORIES:classes,Garfield Park,Shelby St. Corridor
ATTACH;FMTTYPE=image/jpeg:https://www.bigcar.org/wp-content/uploads/2023/01/IMG_7049.jpeg
END:VEVENT
BEGIN:VEVENT
DTSTART;TZID=America/Indiana/Indianapolis:20230614T193000
DTEND;TZID=America/Indiana/Indianapolis:20230614T210000
DTSTAMP:20260420T031013
CREATED:20230531T012202Z
LAST-MODIFIED:20230531T012202Z
UID:10936-1686771000-1686776400@www.bigcar.org
SUMMARY:African Dance with Uzuri
DESCRIPTION:Join Uzuri Asad\, artist in Big Car’s Public Life Residency\, for a dose of culture\, self-care\, and community as we explore rhythms from West Africa and other parts of the Diaspora. Give your body and soul a moment to reflect and progress all at once\, meet Asad on the floor!
URL:https://www.bigcar.org/event/african-dance-with-uzuri-8/
LOCATION:Contemporary Art Museum of Indianapolis (CAMi)\, 1125 Cruft St.\, Indianapolis\, IN\, 46203\, United States
CATEGORIES:classes,Garfield Park,Shelby St. Corridor
ATTACH;FMTTYPE=image/jpeg:https://www.bigcar.org/wp-content/uploads/2023/01/IMG_7049.jpeg
END:VEVENT
BEGIN:VEVENT
DTSTART;TZID=America/Indiana/Indianapolis:20230625T130000
DTEND;TZID=America/Indiana/Indianapolis:20230625T150000
DTSTAMP:20260420T031013
CREATED:20230531T013318Z
LAST-MODIFIED:20230531T013318Z
UID:10946-1687698000-1687705200@www.bigcar.org
SUMMARY:Andrea Jandernoa- Power Plant Grant Juror Artist Talk
DESCRIPTION:Learn about artist Andrea Jandernoa\, a juror for our 2023 Power Plant Grant. Jandernoa is an award-winning artist and educator who specializes in community-based arts programming. She holds an MA in Philosophy and an MFA in Integrative Studio Practice from Herron School of Art & Design. Jandernoa experiments with intentional processes\, materials\, and forms\, in order to discover metaphors that can be applied to social contexts or to challenge inequitable power structures. This results in a highly collaborative and interdisciplinary art practice. Jandernoa also maintains a studio space at the Circle City Industrial Complex where she paints and exhibits oil paintings.\n\nAbout the The Power Plant Grant\nPower Plant Grants support — on an annual basis — visual artists who live\, work\, or run spaces in Indianapolis with project grants of $10\,000. Applications for this round are due by July 10\, 2023.\n\nEach year — based on selections by an independent panel — 6 individual artists or teams will receive awards of $10\,000.\n\nEligible applicants are visual and or multidisciplinary artists who create original work in painting\, drawing\, sculpture\, book art\, ceramics\, fiber\, printmaking\, digital and media works\, film\, video\, photography\, performance art\, sound art\, social practice and or hybrid or interdisciplinary practice of any or all of the above.\n\nArtists must be over 21 at the time of the application\, and may not be full-time students.\n\nEmployees or board members (or immediate family members of employees or board members) of Big Car Collaborative are not eligible for this opportunity.\nTeams\, partnerships\, and unincorporated individuals running spaces are eligible. Nonprofit organizations are not.\n\nEligible projects are ones that can be primarily supported by grant funds. Much larger projects that would require far more funding are not eligible.\nPrevious Power Plant Grant recipients awarded in the previous year are not eligible to apply for this current round.\n\nHow it works\nApply by July 10\, 2023. A panel of four judges\, three Indiana-based and one out-of-state\, will award six artists\, artist teams\, or artist-run space project grants of $10\,000 — with a total of $60\,000 granted in 2023.\nTimeline:\nFriday\, May 5 – Application opens\nMonday\, June 5\, 7-8 pm — Virtual information session.\nMonday\, June 26\, 7-8 pm — Information session (in-person)\nMonday\, July 10 – Applications close online\, at 11.59 PM EST\nFriday\, August 11 – All applications notified if they will proceed to the final round\nSaturday\, August 26\, 9:30 am — 6pm — Artists’ presentations at Selection Panel meeting in Indianapolis*\nMonday\, August 28 – Award recipients notified\nMonday\, September 18 – Public Announcement of 2023-24 Awards
URL:https://www.bigcar.org/event/andrea-jandernoa-power-plant-grant-juror-artist-talk/
LOCATION:Contemporary Art Museum of Indianapolis (CAMi)\, 1125 Cruft St.\, Indianapolis\, IN\, 46203\, United States
CATEGORIES:classes,Garfield Park,Visual Art
ATTACH;FMTTYPE=image/jpeg:https://www.bigcar.org/wp-content/uploads/2023/05/Andrea-Jandernoa.jpg
END:VEVENT
BEGIN:VEVENT
DTSTART;TZID=America/Indiana/Indianapolis:20230907T113000
DTEND;TZID=America/Indiana/Indianapolis:20230907T133000
DTSTAMP:20260420T031013
CREATED:20230531T012944Z
LAST-MODIFIED:20230901T015630Z
UID:10943-1694086200-1694093400@www.bigcar.org
SUMMARY:Lunch at Lockerbie Marketplace
DESCRIPTION:Join us for live music by Wick\, comfort dishes by Taste of Manila\, and Live music. Games like foosball\, ping pong\, chess & checkers\, and giant Jenga are also available for additional entertainment. \nAll events are free at 320 N New Jersey Street in the greenspace right off the Cultural Trail. \n\nAbout Wick \nJohn Wick and Andrew Gustin met at IU Bloomington in 2006 and quickly bonded over similar music tastes. In 2007 they moved to Indianapolis and started an Indie Rock band called The Dwellers. The Dwellers were prolific and inspired by the DIY spirit and self released over 10 albums. In 2013 The Dwellers final album ‘Less is More’ was released by Jon Roger’s local label HIFR. \nIn 2021 John and Andrew reunited to make an album of songs John wrote in college. They started a new band called Wick and enlisted Dan Johnson to play drums and had John’s siblings Katie Jones and Ian Wick contribute with backing vocals on the album. Angel Baby is the single from the Wick album called “Forest” which will come out later in the year. \nThe band was joined by former Dwellers bassist Eric Brock to fill out the lineup. \nAbout the project \nA free gathering where knitting and graffiti collide! Simultaneously inspired by traditional knitting and graffiti\, this ever-evolving piece combines fiber adjacent activities\, coloring sheets derived from graffiti and knitting motifs\, and opportunities for participants to share their creative path stories.\nYou are invited to come join the fun\, because without YOU\, Boo\, this project can’t happen. Mary Jo Bayliss specializes in creating environments that help people feel at ease using space\, light and color to achieve these goals.
URL:https://www.bigcar.org/event/boo-a-knitting-graffiti-project-with-mary-jo-bayliss-3/
LOCATION:Needler’s Market\, 320 N New Jersey\, Indianapolis\, IN\, 46204\, United States
CATEGORIES:classes,Garfield Park,Visual Art
ATTACH;FMTTYPE=image/jpeg:https://www.bigcar.org/wp-content/uploads/2023/05/Wick.jpeg
END:VEVENT
END:VCALENDAR