BEGIN:VCALENDAR
VERSION:2.0
PRODID:-//Big Car - ECPv6.9.0//NONSGML v1.0//EN
CALSCALE:GREGORIAN
METHOD:PUBLISH
X-WR-CALNAME:Big Car
X-ORIGINAL-URL:https://www.bigcar.org
X-WR-CALDESC:Events for Big Car
REFRESH-INTERVAL;VALUE=DURATION:PT1H
X-Robots-Tag:noindex
X-PUBLISHED-TTL:PT1H
BEGIN:VTIMEZONE
TZID:America/Indiana/Indianapolis
BEGIN:DAYLIGHT
TZOFFSETFROM:-0500
TZOFFSETTO:-0400
TZNAME:EDT
DTSTART:20180311T070000
END:DAYLIGHT
BEGIN:STANDARD
TZOFFSETFROM:-0400
TZOFFSETTO:-0500
TZNAME:EST
DTSTART:20181104T060000
END:STANDARD
END:VTIMEZONE
BEGIN:VEVENT
DTSTART;TZID=America/Indiana/Indianapolis:20180806T180000
DTEND;TZID=America/Indiana/Indianapolis:20180806T190000
DTSTAMP:20260419T214321
CREATED:20180725T145736Z
LAST-MODIFIED:20180725T145736Z
UID:6924-1533578400-1533582000@www.bigcar.org
SUMMARY:Yoga on East Plaza
DESCRIPTION:Yoga on the East Plaza of Indianapolis City Market! Kick-off your work week the right way by taking a moment to center yourself\, with instructor Katy Newton. Don’t have your own yoga mat? No problem\, we’ve got plenty! If it rains\, we will move indoors to the upper mezzanine. \nKaty Newton is a RYT200 yoga teacher with 5 years of experience. She is a creative teacher that incorporates fun and engaging concepts into her classes. Katy specializes in community based yoga which serves to make yoga affordable and accessible to all people. She currently teaches at the City Market and Irsay Family YMCA. She is a local artist and fashion designer\, consummate upcycler and table tennis enthusiast. \nFree and open to the public // All ages \nBrought to you by Spark Placemaking and Indianapolis City Market with support from Southwest Airlines and Project for Public Spaces through the Heart of the Community program.
URL:https://www.bigcar.org/event/yoga-on-east-plaza-2/
LOCATION:Indianapolis City Market\, 222 E Market St\, Indianapolis 
CATEGORIES:classes,Downtown Indy
ATTACH;FMTTYPE=image/jpeg:https://www.bigcar.org/wp-content/uploads/2018/07/yogapicatmarket.jpg
END:VEVENT
BEGIN:VEVENT
DTSTART;TZID=America/Indiana/Indianapolis:20180807T180000
DTEND;TZID=America/Indiana/Indianapolis:20180807T190000
DTSTAMP:20260419T214321
CREATED:20180725T155214Z
LAST-MODIFIED:20180725T165024Z
UID:6936-1533664800-1533668400@www.bigcar.org
SUMMARY:Yoga at Lockerbie Marketplace
DESCRIPTION:Join us every Tuesday evening in August for FREE YOGA at Lockerbie Marketplace provided by The Hot Room Downtown! Step away from the hustle and bustle of Indianapolis for a relaxing experience in one of the city’s hidden green spaces. Take a moment to find your calm with instructor Joel Wayman and continue your week feeling relaxed and refreshed. \nAbout Wayman \nI have been in a relationship with fitness for over ten years. I am always finding ways to stay flexible\, lean\, strong and in the end transform my body to be healthier and my mind to become happier. My love for yoga started young with my mom\, who learned from her mom\, showing us children how to do stretches she used before the start of her days. It was not until 2016 that I started practicing yoga consistently. I was introduced to hot yoga by my best friend and cousin Bria. We decided on taking Bikram yoga class at The Hot Room. It felt incredible and my body and mind were feeling things I’d never felt before. I immediately signed up and started coming regularly as much as I could. It was transformative. I continued with my practice daily and tried not just Bikram\, but Vinyasa and Pilates as well. I found it to be incredibly important to practice as many different styles as I could and found my body to start changing and my mind to start healing. \nWithin 6 months of practicing I became an instructor at The Hot Room by going through an Inferno Hot Pilates training in Chicago. Two months later I started my 200 RYT at The Hot Room. \nI love teaching Inferno Hot Pilates because it’s like a workout party. Results are also noticeable within a short period of time as long as you commit to the practice. \nI love teaching Hot Power Vinyasa because the continuous flow of the class connects you to your breath and movements at the same time. As a dancer it makes it feel like doing a beautiful choreographed dance and my heart creates that connection with my mind and body. \nAs long as you’re doing the work you will create strength and find healing. Every style is different and every teacher brings something different to the table and I am honored to be apart of the team at The Hot Room. \nThis program is brought to you by Spark Placemaking and The Hot Room Downtown in partnership with Citimark\, Gershman Partners\, and Big Car Collaborative.
URL:https://www.bigcar.org/event/yoga-at-lockerbie-marketplace/
LOCATION:Needler’s Market\, 320 N New Jersey\, Indianapolis\, IN\, 46204\, United States
CATEGORIES:classes,Downtown Indy
ATTACH;FMTTYPE=image/jpeg:https://www.bigcar.org/wp-content/uploads/2018/07/17244150273_77e74b4e84_o.jpg
END:VEVENT
BEGIN:VEVENT
DTSTART;TZID=America/Indiana/Indianapolis:20180813T180000
DTEND;TZID=America/Indiana/Indianapolis:20180813T190000
DTSTAMP:20260419T214321
CREATED:20180725T145845Z
LAST-MODIFIED:20180725T145845Z
UID:6926-1534183200-1534186800@www.bigcar.org
SUMMARY:Yoga on East Plaza
DESCRIPTION:Yoga on the East Plaza of Indianapolis City Market! Kick-off your work week the right way by taking a moment to center yourself\, with instructor Katy Newton. Don’t have your own yoga mat? No problem\, we’ve got plenty! If it rains\, we will move indoors to the upper mezzanine. \nKaty Newton is a RYT200 yoga teacher with 5 years of experience. She is a creative teacher that incorporates fun and engaging concepts into her classes. Katy specializes in community based yoga which serves to make yoga affordable and accessible to all people. She currently teaches at the City Market and Irsay Family YMCA. She is a local artist and fashion designer\, consummate upcycler and table tennis enthusiast. \nFree and open to the public // All ages \nBrought to you by Spark Placemaking and Indianapolis City Market with support from Southwest Airlines and Project for Public Spaces through the Heart of the Community program.
URL:https://www.bigcar.org/event/yoga-on-east-plaza-3/
LOCATION:Indianapolis City Market\, 222 E Market St\, Indianapolis 
CATEGORIES:classes,Downtown Indy
ATTACH;FMTTYPE=image/jpeg:https://www.bigcar.org/wp-content/uploads/2018/07/yogapicatmarket.jpg
END:VEVENT
BEGIN:VEVENT
DTSTART;TZID=America/Indiana/Indianapolis:20180814T180000
DTEND;TZID=America/Indiana/Indianapolis:20180814T190000
DTSTAMP:20260419T214321
CREATED:20180725T165133Z
LAST-MODIFIED:20180725T165211Z
UID:6943-1534269600-1534273200@www.bigcar.org
SUMMARY:Yoga at Lockerbie
DESCRIPTION:Join us every Tuesday evening in August for FREE YOGA at Lockerbie Marketplace provided by The Hot Room Downtown! Step away from the hustle and bustle of Indianapolis for a relaxing experience in one of the city’s hidden green spaces. Take a moment to find your calm with instructor Joel Wayman and continue your week feeling relaxed and refreshed. \nAbout Wayman \nI have been in a relationship with fitness for over ten years. I am always finding ways to stay flexible\, lean\, strong and in the end transform my body to be healthier and my mind to become happier. My love for yoga started young with my mom\, who learned from her mom\, showing us children how to do stretches she used before the start of her days. It was not until 2016 that I started practicing yoga consistently. I was introduced to hot yoga by my best friend and cousin Bria. We decided on taking Bikram yoga class at The Hot Room. It felt incredible and my body and mind were feeling things I’d never felt before. I immediately signed up and started coming regularly as much as I could. It was transformative. I continued with my practice daily and tried not just Bikram\, but Vinyasa and Pilates as well. I found it to be incredibly important to practice as many different styles as I could and found my body to start changing and my mind to start healing. \nWithin 6 months of practicing I became an instructor at The Hot Room by going through an Inferno Hot Pilates training in Chicago. Two months later I started my 200 RYT at The Hot Room. \nI love teaching Inferno Hot Pilates because it’s like a workout party. Results are also noticeable within a short period of time as long as you commit to the practice. \nI love teaching Hot Power Vinyasa because the continuous flow of the class connects you to your breath and movements at the same time. As a dancer it makes it feel like doing a beautiful choreographed dance and my heart creates that connection with my mind and body. \nAs long as you’re doing the work you will create strength and find healing. Every style is different and every teacher brings something different to the table and I am honored to be apart of the team at The Hot Room. \nThis program is brought to you by Spark Placemaking and The Hot Room Downtown in partnership with Citimark\, Gershman Partners\, and Big Car Collaborative.
URL:https://www.bigcar.org/event/yoga-at-lockerbie/
LOCATION:IN
CATEGORIES:classes,Downtown Indy
ATTACH;FMTTYPE=image/jpeg:https://www.bigcar.org/wp-content/uploads/2018/07/17244150273_77e74b4e84_o.jpg
END:VEVENT
BEGIN:VEVENT
DTSTART;TZID=America/Indiana/Indianapolis:20180820T180000
DTEND;TZID=America/Indiana/Indianapolis:20180820T190000
DTSTAMP:20260419T214321
CREATED:20180725T145939Z
LAST-MODIFIED:20180725T145939Z
UID:6928-1534788000-1534791600@www.bigcar.org
SUMMARY:Yoga on East Plaza
DESCRIPTION:Yoga on the East Plaza of Indianapolis City Market! Kick-off your work week the right way by taking a moment to center yourself\, with instructor Katy Newton. Don’t have your own yoga mat? No problem\, we’ve got plenty! If it rains\, we will move indoors to the upper mezzanine. \nKaty Newton is a RYT200 yoga teacher with 5 years of experience. She is a creative teacher that incorporates fun and engaging concepts into her classes. Katy specializes in community based yoga which serves to make yoga affordable and accessible to all people. She currently teaches at the City Market and Irsay Family YMCA. She is a local artist and fashion designer\, consummate upcycler and table tennis enthusiast. \nFree and open to the public // All ages \nBrought to you by Spark Placemaking and Indianapolis City Market with support from Southwest Airlines and Project for Public Spaces through the Heart of the Community program.
URL:https://www.bigcar.org/event/yoga-on-east-plaza-4/
LOCATION:Indianapolis City Market\, 222 E Market St\, Indianapolis 
CATEGORIES:classes,Downtown Indy
ATTACH;FMTTYPE=image/jpeg:https://www.bigcar.org/wp-content/uploads/2018/07/yogapicatmarket.jpg
END:VEVENT
BEGIN:VEVENT
DTSTART;TZID=America/Indiana/Indianapolis:20180821T180000
DTEND;TZID=America/Indiana/Indianapolis:20180821T190000
DTSTAMP:20260419T214321
CREATED:20180725T165322Z
LAST-MODIFIED:20180725T165322Z
UID:6945-1534874400-1534878000@www.bigcar.org
SUMMARY:Yoga at Lockerbie
DESCRIPTION:Join us every Tuesday evening in August for FREE YOGA at Lockerbie Marketplace provided by The Hot Room Downtown! Step away from the hustle and bustle of Indianapolis for a relaxing experience in one of the city’s hidden green spaces. Take a moment to find your calm with instructor Joel Wayman and continue your week feeling relaxed and refreshed. \nAbout Wayman \nI have been in a relationship with fitness for over ten years. I am always finding ways to stay flexible\, lean\, strong and in the end transform my body to be healthier and my mind to become happier. My love for yoga started young with my mom\, who learned from her mom\, showing us children how to do stretches she used before the start of her days. It was not until 2016 that I started practicing yoga consistently. I was introduced to hot yoga by my best friend and cousin Bria. We decided on taking Bikram yoga class at The Hot Room. It felt incredible and my body and mind were feeling things I’d never felt before. I immediately signed up and started coming regularly as much as I could. It was transformative. I continued with my practice daily and tried not just Bikram\, but Vinyasa and Pilates as well. I found it to be incredibly important to practice as many different styles as I could and found my body to start changing and my mind to start healing. \nWithin 6 months of practicing I became an instructor at The Hot Room by going through an Inferno Hot Pilates training in Chicago. Two months later I started my 200 RYT at The Hot Room. \nI love teaching Inferno Hot Pilates because it’s like a workout party. Results are also noticeable within a short period of time as long as you commit to the practice. \nI love teaching Hot Power Vinyasa because the continuous flow of the class connects you to your breath and movements at the same time. As a dancer it makes it feel like doing a beautiful choreographed dance and my heart creates that connection with my mind and body. \nAs long as you’re doing the work you will create strength and find healing. Every style is different and every teacher brings something different to the table and I am honored to be apart of the team at The Hot Room. \nThis program is brought to you by Spark Placemaking and The Hot Room Downtown in partnership with Citimark\, Gershman Partners\, and Big Car Collaborative.
URL:https://www.bigcar.org/event/yoga-at-lockerbie-2/
LOCATION:Needler’s Market\, 320 N New Jersey\, Indianapolis\, IN\, 46204\, United States
CATEGORIES:classes,Downtown Indy
ATTACH;FMTTYPE=image/jpeg:https://www.bigcar.org/wp-content/uploads/2018/07/17244150273_77e74b4e84_o.jpg
END:VEVENT
BEGIN:VEVENT
DTSTART;TZID=America/Indiana/Indianapolis:20180828T180000
DTEND;TZID=America/Indiana/Indianapolis:20180828T190000
DTSTAMP:20260419T214321
CREATED:20180725T165437Z
LAST-MODIFIED:20180725T165437Z
UID:6947-1535479200-1535482800@www.bigcar.org
SUMMARY:Yoga at Lockerbie
DESCRIPTION:Join us every Tuesday evening in August for FREE YOGA at Lockerbie Marketplace provided by The Hot Room Downtown! Step away from the hustle and bustle of Indianapolis for a relaxing experience in one of the city’s hidden green spaces. Take a moment to find your calm with instructor Joel Wayman and continue your week feeling relaxed and refreshed. \nAbout Wayman \nI have been in a relationship with fitness for over ten years. I am always finding ways to stay flexible\, lean\, strong and in the end transform my body to be healthier and my mind to become happier. My love for yoga started young with my mom\, who learned from her mom\, showing us children how to do stretches she used before the start of her days. It was not until 2016 that I started practicing yoga consistently. I was introduced to hot yoga by my best friend and cousin Bria. We decided on taking Bikram yoga class at The Hot Room. It felt incredible and my body and mind were feeling things I’d never felt before. I immediately signed up and started coming regularly as much as I could. It was transformative. I continued with my practice daily and tried not just Bikram\, but Vinyasa and Pilates as well. I found it to be incredibly important to practice as many different styles as I could and found my body to start changing and my mind to start healing. \nWithin 6 months of practicing I became an instructor at The Hot Room by going through an Inferno Hot Pilates training in Chicago. Two months later I started my 200 RYT at The Hot Room. \nI love teaching Inferno Hot Pilates because it’s like a workout party. Results are also noticeable within a short period of time as long as you commit to the practice. \nI love teaching Hot Power Vinyasa because the continuous flow of the class connects you to your breath and movements at the same time. As a dancer it makes it feel like doing a beautiful choreographed dance and my heart creates that connection with my mind and body. \nAs long as you’re doing the work you will create strength and find healing. Every style is different and every teacher brings something different to the table and I am honored to be apart of the team at The Hot Room. \nThis program is brought to you by Spark Placemaking and The Hot Room Downtown in partnership with Citimark\, Gershman Partners\, and Big Car Collaborative.
URL:https://www.bigcar.org/event/yoga-at-lockerbie-3/
LOCATION:Needler’s Market\, 320 N New Jersey\, Indianapolis\, IN\, 46204\, United States
CATEGORIES:classes,Downtown Indy
ATTACH;FMTTYPE=image/jpeg:https://www.bigcar.org/wp-content/uploads/2018/07/17244150273_77e74b4e84_o.jpg
END:VEVENT
END:VCALENDAR